BEGIN:VCALENDAR
VERSION:2.0
PRODID:-//https://fadeu-old.urantiacos.cl///NONSGML kigkonsult.se iCalcreator 2.10.15//
METHOD:PUBLISH
BEGIN:VEVENT
UID:20260419T174903UTC-4627zgVOB7@https://fadeu-old.urantiacos.cl/
DTSTAMP:20260419T174903Z
DESCRIPTION:La Universidad Cat&oacute\;lica es patrimonio de Chile. Lo son 
 sus estudiantes\, acad&eacute\;micos\, profesionales y administrativos\, a
 s&iacute\; como sus campus\, edificios\, jardines\, las colecciones art&ia
 cute\;sticas y el conocimiento que all&iacute\; se produce y que se difund
 e tanto a nivel nacional como internacional. Ese es el patrimonio que\, co
 mo Universidad\, legamos a las futuras generaciones.\nDesde el 18 de octub
 re de 2019 la comunidad y los campus de la Universidad han sido protagonis
 tas\, junto con otras casas de estudios\, de las manifestaciones sociales 
 que el 15 de noviembre de 2019 derivaron en la firma del&nbsp\;'Acuerdo po
 r la Paz Social y la Nueva Constituci&oacute\;n&rdquo\;. Creemos que este 
 momento hist&oacute\;rico para Chile\, que nos llena de esperanza y entusi
 asmo\, es propicio para dar inicio al proceso de recuperaci&oacute\;n del 
 Patrimonio Cultural de la UC que se ha visto afectado en las &uacute\;ltim
 as semanas.\n\nQueremos que este proceso sea participativo\, para acercar 
 a&uacute\;n m&aacute\;s a la comunidad de la UC a su patrimonio mueble e i
 nmueble\, invitando a quienes est&eacute\;n interesados y sientan que pued
 e aportar a participar en la labor de recuperaci&oacute\;n del patrimonio 
 cultural de la UC.\nEsta iniciativa ser&aacute\; coordinada por el Centro 
 del Patrimonio Cultural y constituir&aacute\; la base para la labor de rec
 uperaci&oacute\;n extraordinaria que la Direcci&oacute\;n de Infraestructu
 ra UC ejecutar&aacute\; en los pr&oacute\;ximos meses.\n\n\nLugar: Sal&oac
 ute\;n Sergio Larra&iacute\;n Garc&iacute\;a Moreno&nbsp\;\nCu&aacute\;ndo
 : Mi&eacute\;rcoles 20/11/2019\nHora: 15:00 - 17:00 horas\nInscripciones: 
 En el siguiente&nbsp\;enlace&nbsp\;&nbsp\;\n&nbsp\;\nhttps://docs.google.c
 om/forms/d/e/1FAIpQLScE8A0Y5gXnV1zezMVWMQiF8FQOQJPRo4rXC14GMg76ZNNbxw/view
 form?usp=sf_link\n&nbsp\; https://fadeu-old.urantiacos.cl/agenda/evento/20
 43-plan-de-recuperacion-del-patrimonio-cultural-de-la-uc
DTSTART:20191120T180000Z
DTEND:20191120T200000Z
LOCATION:Salón Sergio Larraín\, Campus Lo Contador ()
SUMMARY:Plan de Recuperación del Patrimonio Cultural de la UC
URL:https://fadeu-old.urantiacos.cl/agenda/evento/2043-plan-de-recuperacion
 -del-patrimonio-cultural-de-la-uc
END:VEVENT
BEGIN:VEVENT
UID:20260419T174903UTC-4643Vwk3VW@https://fadeu-old.urantiacos.cl/
DTSTAMP:20260419T174903Z
DESCRIPTION:El Instituto de Estudios Urbanos y Territoriales realizar&aacut
 e\; la&nbsp\; 11 de la Serie: Jornadas de Investigaci&oacute\;n- 2019: Di&
 aacute\;logos para debatir y repensar el territorio.En esta ocasi&oacute\;
 n la investigadora postdoctoral\, Carolina Aguilera\, dictar&aacute\; la C
 harla: Antecedentes para una discusi&oacute\;n sobre la legitimidad del Nu
 nca M&aacute\;s en sectores de clases medias altas en Chile.La actividad s
 e realizar&aacute\; el d&iacute\;a martes 19 de noviembre a partir de las 
 13:00 h. en el Sal&oacute\;n Sergio Larra&iacute\;n. El Comendador 1916\, 
 Providencia.Inscripciones aqu&iacute\;:&nbsp\;https://docs.google.com/form
 s/d/e/1FAIpQLSeGm7-0-STUph_JG7pdAx2_8qUJKNGhU4nfEGJFvYOV5PLFCA/viewform\n&
 nbsp\;\n https://fadeu-old.urantiacos.cl/agenda/evento/2041-sesion-n-11-de
 -la-serie-jornadas-de-investigacion-2019-dialogos-para-debatir-y-repensar-
 el-territorioo
DTSTART:20191119T160000Z
DTEND:20191119T170000Z
LOCATION:Salón Sergio Larraín\, Campus Lo Contador ()
SUMMARY:Sesión nº11 de la Serie: Jornadas de Investigación- 2019: Diálogos 
 para debatir y repensar el territorioo
URL:https://fadeu-old.urantiacos.cl/agenda/evento/2041-sesion-n-11-de-la-se
 rie-jornadas-de-investigacion-2019-dialogos-para-debatir-y-repensar-el-ter
 ritorioo
END:VEVENT
BEGIN:VEVENT
UID:20260419T174903UTC-46542jALak@https://fadeu-old.urantiacos.cl/
DTSTAMP:20260419T174903Z
DESCRIPTION:Expondr&aacute\;n acad&eacute\;micos y ex-alumnos del Instituto
  de Estudios Urbanos y Territoriales:\nKay Bergamini:&nbsp\;'Gesti&oacute\
 ;n del agua en Chile: Muchas instituciones\, muchos problemas'Carolina Roj
 as:&nbsp\;'El agua un derecho humano pendiente para la sustentabilidad de 
 las ciudades&rdquo\;Juan Pablo Schuster: 'Situaci&oacute\;n del agua en Ch
 ile: desaf&iacute\;os para su consagraci&oacute\;n como derecho humano en 
 contexto de escasez&rdquo\;.\nPosterior a las exposiciones se abrir&aacute
 \; una mesa de discusi&oacute\;n con ex-alumnos de los programas de mag&ia
 cute\;ster MHM-MDU:&nbsp\;Carolina Jarpa\,&nbsp\;Pablo Gonz&aacute\;lez&nb
 sp\;y&nbsp\;Daniel Ruiz.\nInscripciones&nbsp\;aqu&iacute\;\n https://fadeu
 -old.urantiacos.cl/agenda/evento/2039-seminario-el-agua-como-derecho-funda
 mental-sequia-o-problema-de-gestion
DTSTART:20191118T160000Z
DTEND:20191118T180000Z
LOCATION:Sala Reflectorio ()
SUMMARY: Seminario: El agua como derecho fundamental ¿Sequía o problema de 
 gestión?
URL:https://fadeu-old.urantiacos.cl/agenda/evento/2039-seminario-el-agua-co
 mo-derecho-fundamental-sequia-o-problema-de-gestion
END:VEVENT
BEGIN:VEVENT
UID:20260419T174903UTC-4664xVK8Wg@https://fadeu-old.urantiacos.cl/
DTSTAMP:20260419T174903Z
DESCRIPTION:La Econom&iacute\;a Circular es una de los lineamientos relevan
 tes a la hora de afrontar problem&aacute\;ticas ambientales provocadas por
  los actuales paradigmas de producci&oacute\;n y consumo\, pero &iquest\;C
 &oacute\;mo adaptar sus principios al sistema de la moda?.\n\nEl Seminario
  plantea una introducci&oacute\;n a la Moda Circular\, y c&oacute\;mo esta
  puede actuar como herramienta para el desarrollo sustentable.\nLos invita
 mos a conocer las distintas estrategias para la circularidad en el &aacute
 \;rea de la vestimenta\, a trav&eacute\;s de casos de &eacute\;xito intern
 acionales.\nEl Seminario estar&aacute\; compuesto por tres charlas:https:/
 /static.xx.fbcdn.net/images/emoji.php/v9/t9e/1/16/27a1.png')\;'&gt\;➡️1_Es
 trategias para la Moda Circular_Expone: Lucia Lopez (UY)\n2_Prevenci&oacut
 e\;n del Residuo Textil: Aplicaci&oacute\;n de la tecnolog&iacute\;a y des
 arrollo de la t&eacute\;cnica\; Zero Waste ._Expone: Lorena R. Lain (UY)\n
 3_Reutilizaci&oacute\;n del Residuo Textil (Upcycling). Presentaci&oacute\
 ;n de Caso:12NAExpone: Mariano Breccia\, Colectivo 12NA (CL -ARG)\nNSCRIPC
 IONES&nbsp\;https://forms.gle/oDtNcxDjERjSaUPp9\n&nbsp\;\n\n https://fadeu
 -old.urantiacos.cl/agenda/evento/2037-seminario-modo-circular
DTSTART:20191118T130000Z
DTEND:20191118T150000Z
LOCATION:Salón Sergio Larraín\, Campus Lo Contador ()
SUMMARY:Seminario:  Modo Circular
URL:https://fadeu-old.urantiacos.cl/agenda/evento/2037-seminario-modo-circu
 lar
END:VEVENT
END:VCALENDAR
