BEGIN:VCALENDAR
VERSION:2.0
PRODID:-//https://fadeu-old.urantiacos.cl///NONSGML kigkonsult.se iCalcreator 2.10.15//
METHOD:PUBLISH
BEGIN:VEVENT
UID:20260420T140850UTC-6171lpj5vt@https://fadeu-old.urantiacos.cl/
DTSTAMP:20260420T140850Z
DESCRIPTION:CICLO PAISAJES PROYECTADOS\nSESION 6 | 'IN SITU &middot\; Propu
 estas al paso'\nSandra Iturriaga\n&nbsp\;\nEl pr&oacute\;ximo viernes&nbsp
 \;23 de noviembre&nbsp\;se llevar&aacute\; a cabo la sexta sesi&oacute\;n 
 de 'Paisajes Proyectados: Ciclo de di&aacute\;logos de Arquitectura del Pa
 isaje'\, en celebraci&oacute\;n a los&nbsp\;10 a&ntilde\;os del Magister e
 n Arquitectura del Paisaje UC. La charla ser&aacute\; dictada por la arqui
 tecta y profesora UC&nbsp\;&nbsp\;Sandra Iturriaga.&nbsp\;\n&nbsp\;\nEn el
  marco de la celebraci&oacute\;n de los 10 a&ntilde\;os del&nbsp\;Mag&iacu
 te\;ster en Arquitectura del Paisaje UC\, el Ciclo&nbsp\;Paisajes Proyecta
 dos re&uacute\;ne&nbsp\;10 visiones disciplinares&nbsp\;a partir de conver
 saciones con arquitectos del&nbsp\;paisaje&nbsp\;relacionadas con su produ
 cci&oacute\;n profesional y&nbsp\;acad&eacute\;mica\, constituyendo una vi
 trina actualizada del&nbsp\;quehacer nacional en materia de planificaci&oa
 cute\;n y&nbsp\;dise&ntilde\;o del Paisaje en Chile. Cada sesi&oacute\;n d
 el Ciclo&nbsp\;promueve un&nbsp\;encuentro entre el autor\, parte de su&nb
 sp\;obra y el p&uacute\;blico asistente\, en una din&aacute\;mica&nbsp\;tr
 ansversal y cercana de interacci&oacute\;n.&nbsp\;\n&nbsp\;\nSandra Iturri
 aga\n&nbsp\;\nArquitecto Universidad Cat&oacute\;lica de Chile (1993)\, Ma
 gister en Arquitectura de la Escola T&eacute\;cnica Superior d&rsquo\;Arqu
 itectura de Barcelona (ETSAB\, 2001)\, y actualmente candidata a Doctor en
  Arquitectura y Estudios Urbanos de la U.Cat&oacute\;lica de Chile. Desde 
 el a&ntilde\;o 1994 ha desarrollado una destacada labor profesional\, con 
 obras p&uacute\;blicas y privadas que han sido premiadas en concursos y bi
 enales (Plaza Hermanos Matte\, Parque Nacional La Campana\, Sede Doctorado
  UC\, Lodge Ani Nii Shobo\, Mapocho 42K). Paralelamente desde 1997 ha desa
 rrollado una labor de docencia e investigaci&oacute\;n en la Escuela de Ar
 quitectura de la Universidad Cat&oacute\;lica de Chile\, en &aacute\;reas 
 vinculadas al Proyecto de Arquitectura\, el Patrimonio y el Paisaje. Ha si
 do invitada a exponer su trabajo en contextos nacionales a internacionales
  (U. Berkeley\, UNLP B.Aires\, U. Paris La Villete\, L.F. Laussane\, IAUV 
 Venecia\, PUCE Quito\, Insper Sao Paulo\, entre otros).\nEn los &uacute\;l
 timos 10 a&ntilde\;os ha desarrollado una l&iacute\;nea de investigaci&oac
 ute\;n aplicada centrada en el potencial de cursos fluviales y de infraest
 ructuras f&eacute\;rreas en desuso\, de constituir Corredores y Vias Verde
 s como componentes integradores del territorio. Esto ha dado pie a publica
 ciones y propuestas: &ldquo\;Sistema de V&iacute\;as Verdes en los cursos 
 de agua metropolitanos&rdquo\; (2012)\, &ldquo\;Via Verde Lebu-Lonquimay&r
 dquo\; (2015)\, &ldquo\;Ruta de la Infancia&rdquo\;(2016) &ldquo\;Ruta Ver
 de Maipo 60x60&rdquo\; (2017). Desde el a&ntilde\;o 2009 es directora del 
 Proyecto &ldquo\;MAPOCHO 42K_Cicloparque riberas del Mapocho&rdquo\;\, pro
 puesta que se ha ido construyendo a lo largo de 8 a&ntilde\;os\, recibiend
 o m&uacute\;ltiples premios y distinciones (Premio Bienal Quito 2016\, Pre
 mio XX Bienal Chile\, Categor&iacute\;a Outstanding MCHAP 2016-2017). Desd
 e el a&ntilde\;o 2017 funda la Plataforma M42K_Lab\, un Laboratorio de Inv
 estigaci&oacute\;n aplicada de Proyectos Urbanos y de Paisaje\, al alero d
 e la UC.\n&nbsp\;\nFecha_\nViernes 23 de noviembre de 2018\, 14.00 h.\n&nb
 sp\;\nLugar_\nAuditorio FCV\, campus Lo Contador. El Comendador 1936\, Pro
 videncia.&nbsp\;\n&nbsp\;\nOrganizan_\nMag&iacute\;ster en Arquitectura de
 l Paisaje UC\n&nbsp\;\n\nPatrocina_\nICHAP&nbsp\;(Instituto Chileno de Arq
 uitectos Paisajistas)&nbsp\;\n&nbsp\;\nMedia Partner_\nPlataforma Arquitec
 tura&nbsp\;\n&nbsp\;\nIngreso libre\, previa inscripci&oacute\;n_magisterm
 apa@uc.cl\nInformaciones_\nmagistermapa@uc.cl&nbsp\;\n&nbsp\;\n\n\n&nbsp\;
 \n&nbsp\; https://fadeu-old.urantiacos.cl/agenda/evento/1755-ciclo-de-dial
 ogos-de-arquitectura-del-paisaje-sandra-iturriaga-mapa-uc
DTSTART:20181123T170000Z
DTEND:20181123T180000Z
LOCATION:Auditorio Fernando Castillo Velasco. Edificio ARQ (El Comendador 1
 936\, Providencia\, Región Metropolitana\, Chile)
SUMMARY:Ciclo de diálogos de Arquitectura del Paisaje: Sandra Iturriaga | M
 APA UC
URL:https://fadeu-old.urantiacos.cl/agenda/evento/1755-ciclo-de-dialogos-de
 -arquitectura-del-paisaje-sandra-iturriaga-mapa-uc
END:VEVENT
BEGIN:VEVENT
UID:20260420T140850UTC-6185U9w8Ca@https://fadeu-old.urantiacos.cl/
DTSTAMP:20260420T140850Z
DESCRIPTION:Reciclarte&nbsp\;y la publicaci&oacute\;n&nbsp\;Dise&ntilde\;ar
  para la Libertad&nbsp\;son proyectos que fundan su contenido en el trabaj
 o que desde Dise&ntilde\;o UC\, docentes y estudiantes realizaron durante 
 seis a&ntilde\;os en el Centro Penitenciario Colina II. Una iniciativa que
  surge del convenio realizado por la Universidad Cat&oacute\;lica\, a trav
 &eacute\;s de Puentes UC\, y Gendarmer&iacute\;a.\n&nbsp\;\n https://fadeu
 -old.urantiacos.cl/agenda/evento/1747-inauguracion-exposicion-proyecto-rec
 iclarte-lanzamiento-libro-disenar-para-la-libertad
DTSTART:20181123T160000Z
DTEND:20181123T170000Z
LOCATION:Museo de Bellas Artes (José Miguel de La Barra 650\, Santiago\, Re
 gión Metropolitana\, Chile)
SUMMARY:Inauguración Exposición: Proyecto Reciclarte + Lanzamiento libro: D
 iseñar para la libertad
URL:https://fadeu-old.urantiacos.cl/agenda/evento/1747-inauguracion-exposic
 ion-proyecto-reciclarte-lanzamiento-libro-disenar-para-la-libertad
END:VEVENT
BEGIN:VEVENT
UID:20260420T140850UTC-6189mzRoOE@https://fadeu-old.urantiacos.cl/
DTSTAMP:20260420T140850Z
DESCRIPTION:El pr&oacute\;ximo 22 de noviembre a las 19.00 h. se realizar&a
 acute\; en el sal&oacute\;n Sergio Larra&iacute\;n Garc&iacute\;a Moreno\,
  el lanzamiento del libro 'Vivienda Rural en el Valle Central'\, realizado
  por el arquitecto Felipe Alarc&oacute\;n con las contribuciones de Pablo 
 Casals\, Umberto Bonomo y Tom&aacute\;s Err&aacute\;zuriz.\n&nbsp\;\n&nbsp
 \;\n\nVIVIENDA RURAL EN EL VALLE CENTRAL recoge el trabajo de investigaci&
 oacute\;n financiada por Fondart regional acerca de un tipo de vivienda ar
 raigado a la zona central del pa&iacute\;s y que se presenta como un testi
 monio construido de los procesos hist&oacute\;ricos\, culturales y sociale
 s que han sido parte de este territorio\, representando en su conjunto un 
 patrimonio material e inmaterial ef&iacute\;mero.\nPor medio del acucioso 
 levantamiento planim&eacute\;trico de 10 casos en la regi&oacute\;n del Ma
 ule se intenta registrar una realidad que describe un territorio y su form
 a de vida. El volumen cuenta con ensayos interpretativos de Umberto Bonomo
 \, Tom&aacute\;s Err&aacute\;zuriz y el registro fotogr&aacute\;fico de Pa
 blo Casals.\nComentar&aacute\;n el libro los investigadores y docentes Fer
 nando P&eacute\;rez y Hugo Mondrag&oacute\;n.\nFecha_Jueves 22 de noviembr
 e de 2018\, 19.00 h.\nLugar_Sal&oacute\;n Sergio Larra&iacute\;n Garc&iacu
 te\;a Moreno. El Comendador 1936\, Providencia\nInvitan_Ediciones ARQCentr
 o de Patrimonio cultural UC\nPatrocinan_Ministerio de las culturas\, las a
 rtes y el patrimonioFondart Regional del Maule en la l&iacute\;nea de Patr
 imonio Cultural\n&nbsp\;\n\n&nbsp\; https://fadeu-old.urantiacos.cl/agenda
 /evento/1753-lanzamiento-arq-vivienda-rural-en-el-valle-central-felipe-ala
 rcon
DTSTART:20181122T220000Z
DTEND:20181122T230000Z
LOCATION:Salón Sergio Larraín\, Campus Lo Contador ()
SUMMARY:Lanzamiento ARQ: Vivienda Rural en el Valle Central | Felipe Alarcó
 n
URL:https://fadeu-old.urantiacos.cl/agenda/evento/1753-lanzamiento-arq-vivi
 enda-rural-en-el-valle-central-felipe-alarcon
END:VEVENT
BEGIN:VEVENT
UID:20260420T140850UTC-6195VsvWNe@https://fadeu-old.urantiacos.cl/
DTSTAMP:20260420T140850Z
DESCRIPTION:El reconocido dise&ntilde\;ador&nbsp\;Sebastian Errazuriz Infan
 te&nbsp\;estar&aacute\; en&nbsp\;Dise&ntilde\;o UC&nbsp\;en un conversator
 io junto a Jos&eacute\; Manuel Allard y Mario Ubilla&nbsp\;para hablar de 
 su obra y la exposici&oacute\;n que inaugurar&aacute\; en CorpArtes&nbsp\;
 el 28 de noviembre. Todos Invitados.&nbsp\;Inscripciones&nbsp\;https://sta
 tic.xx.fbcdn.net/images/emoji.php/v9/f9e/1/16/27a1.png')\;'&gt\;➡️&nbsp\;h
 ttps://bit.ly/2TkYfhE\nFecha: Jueves 22 de noviembre\nLugar: Sala L&aacute
 \;mpara\nHora: 15:00 hrs.&nbsp\;\n&nbsp\;\n https://fadeu-old.urantiacos.c
 l/agenda/evento/1749-charla-sebastian-errazuriz
DTSTART:20181122T180000Z
DTEND:20181122T190000Z
LOCATION:Sala Lámpara\, Escuela de Diseño\, Campus Lo Contador (El Comendad
 or 1912-1974\, Providencia\, Región Metropolitana\, Chile)
SUMMARY:Charla Sebastián Errázuriz
URL:https://fadeu-old.urantiacos.cl/agenda/evento/1749-charla-sebastian-err
 azuriz
END:VEVENT
BEGIN:VEVENT
UID:20260420T140850UTC-6199gWbVvF@https://fadeu-old.urantiacos.cl/
DTSTAMP:20260420T140850Z
DESCRIPTION:Seminario a realizarse el d&iacute\;a 22 de noviembre en la&nbs
 p\;Aula Magna Manuel Jos&eacute\; Irarr&aacute\;zabal (Casa Central UC) de
  8.45 a 11.15 h. Presenta&nbsp\;P&iacute\;a Mora\, investigadora del Centr
 o de Pol&iacute\;ticas P&uacute\;blicas UC\, y comentan nuestro Director&n
 bsp\;Luis Eduardo Bresciani L.\,&nbsp\;Carlos Montes\, presidente del Sena
 do\,&nbsp\;Camila Ram&iacute\;rez\, directora de Gesti&oacute\;n urbana de
  Urbanismo Social\, y&nbsp\;Mauricio Varela\, presidente de Asociaci&oacut
 e\;n de Desarrolladores Inmobiliarios.\nPROGRAMA\n9.00 &ndash\; 9.05 Bienv
 enida\n9.05 &ndash\; 9.15 Inauguraci&oacute\;n y palabras iniciales:\nCris
 ti&aacute\;n Monckeberg\, Ministro de Vivienda y Urbanismo\n9.15&ndash\; 9
 .45 Presentaci&oacute\;n &ldquo\;Ciudad con Todos. Di&aacute\;logo para un
 a densificaci&oacute\;n equilibrada&rdquo\;:\nP&iacute\;a Mora\, investiga
 dora del Centro de Pol&iacute\;ticas P&uacute\;blicas UC\n9.45&ndash\; 11.
 00 Panel de discusi&oacute\;n\nLuis Eduardo Bresciani\, director de la Esc
 uela de Arquitectura UC.Carlos Montes\, presidente del Senado.Camila Ram&i
 acute\;rez\, directora de Gesti&oacute\;n urbana de Urbanismo Social.Mauri
 cio Varela\, presidente de Asociaci&oacute\;n de Desarrolladores Inmobilia
 rios\n11.00 &ndash\; 11.15 Cierre y caf&eacute\;\nSergio Baeriswyl\, presi
 dente del Consejo Nacional de Desarrollo Urbano\nInscripciones_\nhttps://d
 ocs.google.com/forms/d/e/1FAIpQLScBufOsSR_Cj5fGNnF2aUWvtfemQS5H0GUIxun4R58
 ygsgiIQ/viewform\n&nbsp\;\n&nbsp\;\nFecha_\nJueves 22 de noviembre\, 2018
 \n&nbsp\;\n&nbsp\;\nHorario_08:45-11:15 h.\n&nbsp\;\n&nbsp\;\nLugar_Aula M
 agna Manuel Jos&eacute\; Irarr&aacute\;zabal (Casa Central UC)\n&nbsp\;\n&
 nbsp\;\nValor_Entrada liberada - Cupos limitados\n&nbsp\;\n&nbsp\;\nOrgani
 zan_\nCentro de Pol&iacute\;ticas P&uacute\;blicas UC\nAsociaci&oacute\;n 
 de desarrolladores Inmmobiliarios - ADI\n&nbsp\;\n&nbsp\;\nColaboran_\nUrb
 anismo Social\nTocToc.com&nbsp\;\nObservatorio de Ciudades UC - OCUC\n&nbs
 p\;\n&nbsp\;\nApoya_\nConsejo Nacional de Desarrollo Urbano - CNDU&nbsp\;
 \n&nbsp\;\nLink_\nhttps://politicaspublicas.uc.cl/agenda/seminario-ciudad-
 con-todos-dialogo-para-una-densificacion-equilibrada/\n https://fadeu-old.
 urantiacos.cl/agenda/evento/1754-seminario-ciudad-con-todos-dialogo-para-u
 na-densificacion-equilibrada
DTSTART:20181122T114500Z
DTEND:20181122T141500Z
LOCATION:Aula Magna José Irarrázaval de Casa Central (Av Libertador Bernard
 o O'Higgins 340\, Santiago\, Región Metropolitana\, Chile)
SUMMARY:SEMINARIO “Ciudad con Todos. Diálogo para una densificación equilib
 rada”
URL:https://fadeu-old.urantiacos.cl/agenda/evento/1754-seminario-ciudad-con
 -todos-dialogo-para-una-densificacion-equilibrada
END:VEVENT
BEGIN:VEVENT
UID:20260420T140850UTC-6208Hl8Ee9@https://fadeu-old.urantiacos.cl/
DTSTAMP:20260420T140850Z
DESCRIPTION:Charla &ldquo\;Desastres Naturales\, Reconstrucci&oacute\;n Soc
 ial y Pr&aacute\;ctica profesional' dictada por el arquitecto Luis Beltr&a
 acute\;n del R&iacute\;o Garc&iacute\;a\, MSc. Urb. VRTICAL\, profesor tal
 lerista en la Universidad An&aacute\;huac y la Universidad Iberoamericana\
 , M&eacute\;xico.\n&nbsp\;\n&nbsp\;\nEn esta conferencia\, Luis Beltr&aacu
 te\;n del R&iacute\;o aborda la pr&aacute\;ctica profesional de su estudio
  de dise&ntilde\;o\, VRTICAL\, en el contexto de M&eacute\;xico\,&nbsp\;do
 nde&nbsp\;la relevancia del proceso de dise&ntilde\;o recae en responder a
  la reconstrucci&oacute\;n ante desastres naturales\, la reconstituci&oacu
 te\;n de tejidos sociales e incluso el desarrollo de bienes ra&iacute\;ces
 .\n&nbsp\;\n&nbsp\;\n\nLa conversaci&oacute\;n enfatizar&aacute\; la idea 
 de que las soluciones sostenibles\, independientemente del contexto social
 \, siempre deben provenir de un proceso de dise&ntilde\;o consciente y ded
 icado.\n\nLuis Beltr&aacute\;n del R&iacute\;o Garc&iacute\;a\n&nbsp\;\n&n
 bsp\;\nEs arquitecto egresado por parte de la Universidad Nacional Aut&oac
 ute\;noma de M&eacute\;xico (UNAM)\, cuenta con una maestr&iacute\;a en ge
 sti&oacute\;n urbana para pa&iacute\;ses en v&iacute\;as de desarrollo por
  parte de la Universidad T&eacute\;cnica de Berl&iacute\;n (TU Berl&iacute
 \;n). Su historial profesional se caracteriza por buscar un equilibrio ent
 re ejercer pragm&aacute\;ticamente su profesi&oacute\;n y tener una nutrid
 a vida acad&eacute\;mica. Ha impartido talleres de proyectos en la UNAM\, 
 TU Berl&iacute\;n\, CENTRO y la Universidad An&aacute\;huac del sur (UAS)\
 , y cuenta con experiencias profesionales dentro y fuera de la rep&uacute\
 ;blica (Berl&iacute\;n\, Cairo\, Los &Aacute\;ngeles y Santiago de Chile).
  Como arquitecto\, su trabajo se enfoca en la relevancia del dise&ntilde\;
 o est&eacute\;tico y sostenible a todos los niveles. Ha tenido la oportuni
 dad de dirigir proyectos como la Casa Centla (Premio Nacional de la Vivien
 da\, 2010) y la iniciativa Reclaiming Heritage. Actualmente es profesor de
  la UAS y CENTRO y cofundador de VRTICAL\, en donde se desempe&ntilde\;a a
 ctualmente.\n&nbsp\;\nVRTICAL\n&nbsp\;\nVRTICAL es un taller de dise&ntild
 e\;o que busca democratizar el servicio arquitect&oacute\;nico en distinto
 s contextos y escalas\, bajo el convencimiento que la est&eacute\;tica y f
 uncionalidad de los espacios son catalizadores de una mejor calidad de vid
 a.\n&nbsp\;\nFecha_Mi&eacute\;rcoles 21 de noviembre de 2018\, 18.30 h.\n&
 nbsp\;\nLugar_Auditorio FCV\, campus Lo Contador. El Comendador 1936\, Pro
 videncia\n&nbsp\;\nOrganizador_Mag&iacute\;ster en Arquitectura Sustentabl
 e y Energ&iacute\;a - MASE\n&nbsp\;\nLink_\nhttp://www.vrtical.mx/\n&nbsp\
 ;\n https://fadeu-old.urantiacos.cl/agenda/evento/1752-conferencia-luis-be
 ltran-del-rio-mase
DTSTART:20181121T213000Z
DTEND:20181121T223000Z
LOCATION:Auditorio Fernando Castillo Velasco. Edificio ARQ (El Comendador 1
 936\, Providencia\, Región Metropolitana\, Chile)
SUMMARY:Conferencia Luis Beltrán del Río | MASE
URL:https://fadeu-old.urantiacos.cl/agenda/evento/1752-conferencia-luis-bel
 tran-del-rio-mase
END:VEVENT
BEGIN:VEVENT
UID:20260420T140850UTC-6217BAXVJx@https://fadeu-old.urantiacos.cl/
DTSTAMP:20260420T140850Z
DESCRIPTION:Estado de Biofabricaci&oacute\;n busca generar una visi&oacute\
 ;n panor&aacute\;mica de los ejercicios acad&eacute\;micos en torno a esta
  materia realizados en la Universidad Cat&oacute\;lica y la Universidad de
  Columbia. El evento consistir&aacute\; de breves exposiciones realizadas 
 por estudiantes de ambas universidades\, y contar&aacute\; con la presenta
 ci&oacute\;n de David Benjamin\, arquitecto y profesor del GSAPP de Columb
 ia University.\n\nEsta actividad se realizar&aacute\; en el marco de la Se
 mana de la Biofabricaci&oacute\;n\, la que se llevar&aacute\; a cabo entre
  el 15 y el 21 de noviembre en las ciudades de Valdivia\, Ancud y Santiago
 . En ella\, por medio de exhibiciones\, conversatorios y talleres gratuito
 s\, se invitar&aacute\; a la comunidad a conocer\, debatir y pensar los im
 pactos de los biomateriales y las tecnolog&iacute\;as de biofabricaci&oacu
 te\;n en futuro del medio ambiente y la sociedad.\nDavid Benjamin\nDirecto
 r Fundador de The Living y Profesor Asistente en la Escuela de Posgrado en
  Arquitectura\, Planificaci&oacute\;n y Preservaci&oacute\;n de la Univers
 idad de Columbia. Su trabajo se centra en ampliar la definici&oacute\;n de
  sostenibilidad ambiental a trav&eacute\;s de la biolog&iacute\;a\, comput
 aci&oacute\;n y econom&iacute\;a circular. &Eacute\;l y The Living han gan
 ado numerosos premios de dise&ntilde\;o\, incluyendo el Emerging Voices de
  la Architectural League\, el Premio New Practices de AIA New York\, el pr
 emio Young Architects Program MoMA PS1\, y el Premio Holcim Sustainability
 . Sus clientes incluyen la Ciudad de Nueva York\, el Gobierno Municipal de
  Se&uacute\;l\, Google\, Nike\, 3M\, Airbus\, BMW\, Miami Science Museum y
  Bj&ouml\;rk.\nFecha_Mi&eacute\;rcoles 21 de noviembre de 2018\, 15.00 a 1
 7.30 h.\nLugar_Auditorio Fernando Castillo VelascoEscuela de Arquitectura 
 UC &ndash\; Campus Lo ContadorEl Comendador 1936\, Providencia\nOrganizan_
 Laboratorio de Biofabricaci&oacute\;n FADEUFedericiLabLaboratorio de Bioma
 teriales de ValdiviaBiofabricaci&oacute\;n de Elementos Mar&iacute\;timosF
 undaci&oacute\;n FungiGSAPP ColumbiaMuseo del HongoRedFungi\nApoyan_Facult
 ad de Arquitectura\, Dise&ntilde\;o y Estudios Urbanos UCEscuela de Arquit
 ectura UCUniversidad Austral de ChileGaler&iacute\;a Barrios BajosIncubado
 ra Activa\nFinancian_Vicerrector&iacute\;a de Investigaci&oacute\;n UCFond
 os de Cultura\, Ministerio de las Culturas\, las Artes y el PatrimonioCORF
 OiBio\n\n\n&nbsp\;\n\n&nbsp\;\n&nbsp\; https://fadeu-old.urantiacos.cl/age
 nda/evento/1751-conferencia-david-benjamin-estado-de-biofabricacion
DTSTART:20181121T180000Z
DTEND:20181121T203000Z
LOCATION:Auditorio Fernando Castillo Velasco. Edificio ARQ (El Comendador 1
 936\, Providencia\, Región Metropolitana\, Chile)
SUMMARY:Conferencia David Benjamin | ESTADO DE BIOFABRICACIÓN
URL:https://fadeu-old.urantiacos.cl/agenda/evento/1751-conferencia-david-be
 njamin-estado-de-biofabricacion
END:VEVENT
END:VCALENDAR
