BEGIN:VCALENDAR
VERSION:2.0
PRODID:-//https://fadeu-old.urantiacos.cl///NONSGML kigkonsult.se iCalcreator 2.10.15//
METHOD:PUBLISH
BEGIN:VEVENT
UID:20260420T130511UTC-6159An4kUi@https://fadeu-old.urantiacos.cl/
DTSTAMP:20260420T130511Z
DESCRIPTION:En el marco del XV Seminario Internacional de la RII\, Camillo 
 Boano presentar&aacute\; la Charla 'La 'gigantomaqu&iacute\;a' y plasticid
 ad del capitalismo urbano: territorios como Leviatanes y la potencialidad 
 del proyecto urbano'.\nCamillo Boano es profesor titular de Dise&ntilde\;o
  Urbano y Teor&iacute\;a Cr&iacute\;tica en la Bartlett Development Planni
 ng Unit (DPU) de la University College de Londres. Es Codirector del Labor
 atorio Urbano de la UCL y Director del programa de Maestr&iacute\;a en Con
 strucci&oacute\;n y Dise&ntilde\;o Urbano de la DPU.\n&nbsp\;\nhttp://www.
 seminariorii.com/\n&nbsp\;\n https://fadeu-old.urantiacos.cl/agenda/evento
 /1759-charla-magistral-camillo-boano
DTSTART:20181130T120000Z
DTEND:20181130T140000Z
LOCATION:Auditorio FADEU (Auditorio FADEU)
SUMMARY:Charla Magistral Camillo Boano
URL:https://fadeu-old.urantiacos.cl/agenda/evento/1759-charla-magistral-cam
 illo-boano
END:VEVENT
BEGIN:VEVENT
UID:20260420T130511UTC-6162NH4OvC@https://fadeu-old.urantiacos.cl/
DTSTAMP:20260420T130511Z
DESCRIPTION:&ldquo\;Te viste&rdquo\;&nbsp\;es el tema central de la&nbsp\;4
 5 Muestra de Artesan&iacute\;a UC\, que este a&ntilde\;os se llevar&aacute
 \; a cabo entre el&nbsp\;30 de noviembre y el 9 de diciembre&nbsp\;en el P
 arque Bustamante de Providencia. Un encuentro que re&uacute\;ne a lo mejor
  de la artesan&iacute\;a tradicional\, con expositores que llegan desde el
  norte\, centro y sur de Chile y el mundo\, y que por diez d&iacute\;as no
 s cautivar&aacute\;n con su trabajo.\n29 de noviembre al 9 de diciembre.Pa
 rque Bustamante\, Providencia.\n&nbsp\;\n\n\n\n https://fadeu-old.urantiac
 os.cl/agenda/evento/1746-45-muestra-de-artesania
DTSTART:20181130T030000Z
LOCATION:Parque Bustamante\, Providencia (Parque Bustamante\, Providencia)
SUMMARY:45º Muestra de Artesanía
URL:https://fadeu-old.urantiacos.cl/agenda/evento/1746-45-muestra-de-artesa
 nia
END:VEVENT
BEGIN:VEVENT
UID:20260420T130511UTC-6166SUNpim@https://fadeu-old.urantiacos.cl/
DTSTAMP:20260420T130511Z
DESCRIPTION:Cuarta sesi&oacute\;n del ciclo organizado conjuntamente por el
  Centro de Estudios P&uacute\;blicos y la Escuela de Arquitectura UC\, a r
 ealizarse el pr&oacute\;ximo jueves 29 a las 19.00 h. en el auditorio del 
 CEP.\n&nbsp\;\nEn esta oportunidad se contar&aacute\; con la presencia de 
 la Alcaldesa de Pe&ntilde\;alol&eacute\;n&nbsp\;Carolina Leitao\, y del Al
 calde de Independencia&nbsp\;Gonzalo Dur&aacute\;n. Los anfitriones ser&aa
 cute\;n&nbsp\;Antonio Lipthay\, Jefe del Magister en Proyecto Urbano UC\, 
 y&nbsp\;Alejandra Celed&oacute\;n\, arquitecta de la Universidad de Chile 
 y profesora de Escuela de Arquitectura UC. El moderador ser&aacute\;&nbsp\
 ;Slaven Razmilic\, investigador del CEP.\n&nbsp\;\nEl encuentro busca most
 rar c&oacute\;mo la administraci&oacute\;n de las municipalidades es el or
 igen de las mejores pol&iacute\;ticas p&uacute\;blicas que dan forma a ciu
 dad y contribuyen en su desarrollo.\n&nbsp\;\n&nbsp\;\n* Entrada liberada
 \n* Inscripci&oacute\;n en este&nbsp\;link\n&nbsp\;\nFecha_Jueves 29 de no
 viembre de 2018\, 19 h.\n&nbsp\;\nLugar_Auditorio Centro de Estudios P&uac
 ute\;blicos. Monse&ntilde\;or S&oacute\;tero Sanz 162\, Providencia\n&nbsp
 \;\nOrganizan_Centro de Estudios P&uacute\;blicos -&nbsp\;CEPEscuela de Ar
 quitectura UC\n&nbsp\;\n\n&nbsp\;\nNoticias\nContacto:&nbsp\;redesarq@uc.c
 l&nbsp\;| +56 2 2354 7747www.arquitectura.uc.cl https://fadeu-old.urantiac
 os.cl/agenda/evento/1762-la-ciudad-como-proyecto-y-el-rol-de-los-municipio
 s-2-earq-uc-cep
DTSTART:20181129T220000Z
DTEND:20181129T230000Z
LOCATION:Auditorio Centro de Estudios Públicos (Monseñor Nuncio Sotero Sanz
  de Villalba 162\, Providencia\, Región Metropolitana\, Chile)
SUMMARY:La ciudad como proyecto y el rol de los Municipios #2 | EARQ UC + C
 EP
URL:https://fadeu-old.urantiacos.cl/agenda/evento/1762-la-ciudad-como-proye
 cto-y-el-rol-de-los-municipios-2-earq-uc-cep
END:VEVENT
BEGIN:VEVENT
UID:20260420T130511UTC-6171UO4XDb@https://fadeu-old.urantiacos.cl/
DTSTAMP:20260420T130511Z
DESCRIPTION:El pr&oacute\;ximo jueves 29 de noviembre a las 19.00 h. se rea
 lizar&aacute\; en el&nbsp\;Hall de Acceso del Edificio ARQ UC el lanzamien
 to del cuarto y pen&uacute\;ltimo ARQDOCS de 2018\, escrito por Manuel Cor
 rada. El lanzamiento ser&aacute\; acompa&ntilde\;ado por la charla magistr
 al del propio autor.\nManuel Corrada&nbsp\;es profesor en la Facultad de M
 atem&aacute\;ticas de la Pontificia Universidad Cat&oacute\;lica de Chile.
  Matem&aacute\;tico\, investigador en l&oacute\;gica con especial &eacute\
 ;nfasis en la metamatem&aacute\;tica de la teor&iacute\;a de conjuntos\, m
 &eacute\;todos de aritmetizaci&oacute\;n de G&ouml\;del y m&aacute\;quinas
  de Turing. Ha publicado m&aacute\;s de 40 art&iacute\;culos cient&iacute\
 ;ficos sobre teor&iacute\;a de conjuntos\, l&oacute\;gica y fundamentos de
  la matem&aacute\;tica y ha sido profesor e investigador invitado en varia
 s universidades europeas y americanas.\nTambi&eacute\;n ha dictado confere
 ncias invitadas y escrito acerca de la relaciones entre ciencia y artes vi
 suales\, con especial inter&eacute\;s en la obra de El Lizzitzky\, Malevic
 h\, Fred Sandback\,y Marcel Duchamp\, y ensayos sobre dise&ntilde\;o\, per
 cepci&oacute\;n visual y arquitectura. Ha hecho cr&iacute\;tica de libros 
 en Revista de Libros de El Mercurio\, The Structurist\, Leviatan y en el d
 iario El Pa&iacute\;s.\nFecha_Jueves 29 de noviembre de 2018\, 19.00 h.\nL
 ugar_Hall de acceso Edificio EARQ UC. El Comendador 1936\, Providencia\nIn
 vitan_Ediciones ARQEscuela de Arquitectura UC\n\nArquitecturaContacto:&nbs
 p\;redesarq@uc.cl&nbsp\;| +56 2 2354 7747www.arquitectura.uc.cl https://fa
 deu-old.urantiacos.cl/agenda/evento/1763-lanzamiento-arq-docs-manuel-corra
 da
DTSTART:20181129T220000Z
DTEND:20181129T230000Z
LOCATION:Hall Edificio Arquitectura (El Comendador 1936\, Providencia\, Reg
 ión Metropolitana\, Chile)
SUMMARY:Lanzamiento ARQ Docs: Manuel Corrada
URL:https://fadeu-old.urantiacos.cl/agenda/evento/1763-lanzamiento-arq-docs
 -manuel-corrada
END:VEVENT
BEGIN:VEVENT
UID:20260420T130511UTC-6177Hj1NWO@https://fadeu-old.urantiacos.cl/
DTSTAMP:20260420T130511Z
DESCRIPTION:En el marco de las&nbsp\;Jornadas de Planificaci&oacute\;n Urba
 na&nbsp\;'Ambitos del campo laboral del planificador urbano en Chile'&nbsp
 \; tenemos el agrado de invitarlo(a) a la tercera sesi&oacute\;n\, la cual
  ser&aacute\; dirigida por el planificador urbano&nbsp\;Nicol&aacute\;s de
 l Canto\, quien expone la charla:&nbsp\;El an&aacute\;lisis de los Instrum
 entos de Planificaci&oacute\;n Territorial ante la entrada en vigencia de 
 nuevas normativas relevantes en el desarrollo urbano y los desaf&iacute\;o
 s para los Planificadores Urbanos.\nEsta jornada se realizar&aacute\; el&n
 bsp\;d&iacute\;a&nbsp\;jueves 29 de noviembre\, a las 18:00 h.\, en el Sal
 &oacute\;n Sergio Larra&iacute\;n.Campus Lo Contador UC.&nbsp\;El Comendad
 or 1916\, Providencia.\nInscripciones en:&nbsp\;inscripcionesieut@uc.cl\nO
 rganizan: Instituto de Estudios Urbanos y Territoriales UC&nbsp\; -&nbsp\;
  College UC\n&nbsp\;\n https://fadeu-old.urantiacos.cl/agenda/evento/1750-
 jornadas-de-planificacion-urbana-uc-nicolas-del-canto-el-analisis-de-los-i
 nstrumentos-de-planificacion-territorial-ante-la-entrada-en-vigencia-de-nu
 evas-normativas-relevantes
DTSTART:20181129T210000Z
DTEND:20181129T220000Z
LOCATION:Salón Sergio Larraín\, Campus Lo Contador ()
SUMMARY:JORNADAS DE PLANIFICACIÓN URBANA UC | Nicolás del Canto: El análisi
 s de los Instrumentos de Planificación Territorial ante la entrada en vige
 ncia de nuevas normativas relevantes
URL:https://fadeu-old.urantiacos.cl/agenda/evento/1750-jornadas-de-planific
 acion-urbana-uc-nicolas-del-canto-el-analisis-de-los-instrumentos-de-plani
 ficacion-territorial-ante-la-entrada-en-vigencia-de-nuevas-normativas-rele
 vantes
END:VEVENT
BEGIN:VEVENT
UID:20260420T130511UTC-6182m5V4tn@https://fadeu-old.urantiacos.cl/
DTSTAMP:20260420T130511Z
DESCRIPTION:En el marco del XV Seminario Internacional de la RII\, Ricardo 
 M&eacute\;ndez presentar&aacute\; su libro 'La telara&ntilde\;a financiera
 . Una geograf&iacute\;a de la financiarizaci&oacute\;n y sus crisis'.\nRic
 ardo M&eacute\;ndez es licenciado en Geograf&iacute\;a e Historia y Doctor
  en Geograf&iacute\;a de la Universidad Complutense de Madrid. En la actua
 lidad es profesor honor&iacute\;fico del Departamento de Geograf&iacute\;a
  de la Universidad Complutense de Madrid.\nwww.seminariorii.com\n https://
 fadeu-old.urantiacos.cl/agenda/evento/1760-charla-magistral-y-lanzamiento-
 de-libro-de-ricardo-mendez
DTSTART:20181129T120000Z
DTEND:20181129T140000Z
LOCATION:Auditorio FADEU\, Campus Lo Contador PUC (El Comendador 1916\, Pro
 videncia\, Providencia\, Región Metropolitana\, Chile)
SUMMARY:Charla Magistral y Lanzamiento de Libro de Ricardo Méndez
URL:https://fadeu-old.urantiacos.cl/agenda/evento/1760-charla-magistral-y-l
 anzamiento-de-libro-de-ricardo-mendez
END:VEVENT
BEGIN:VEVENT
UID:20260420T130511UTC-6186nEusbN@https://fadeu-old.urantiacos.cl/
DTSTAMP:20260420T130511Z
DESCRIPTION:En el marco del XV Seminario Internacional de la RII\, el profe
 sor del Instituto de Estudios Urbanos y Territoriales\, Arturo Orellana\, 
 presentar&aacute\; la charla 'Pensamiento econ&oacute\;mico en el desarrol
 lo de la ciudad y el territorio'.http://www.seminariorii.com/\n https://fa
 deu-old.urantiacos.cl/agenda/evento/1761-charla-magistral-arturo-orellana
DTSTART:20181128T120000Z
DTEND:20181128T140000Z
LOCATION:Auditorio FADEU\, Campus Lo Contador PUC (El Comendador 1916\, Pro
 videncia\, Providencia\, Región Metropolitana\, Chile)
SUMMARY:Charla Magistral Arturo Orellana
URL:https://fadeu-old.urantiacos.cl/agenda/evento/1761-charla-magistral-art
 uro-orellana
END:VEVENT
BEGIN:VEVENT
UID:20260420T130511UTC-6188EpEjuh@https://fadeu-old.urantiacos.cl/
DTSTAMP:20260420T130511Z
DESCRIPTION:La Red Iberoamericana de Investigadores sobre Globalizaci&oacut
 e\;n y Territorio\, el Instituto de Estudios Urbanos y Territoriales de la
  Facultad de Arquitectura\, Dise&ntilde\;o y Estudios Urbanos y el Institu
 to de Geograf&iacute\;a de la Facultad de Historia\, Geograf&iacute\;a y C
 iencia Pol&iacute\;tica de la Pontificia Universidad Cat&oacute\;lica de C
 hile convocan al XV Seminario Internacional de la Red Iberoamericana de In
 vestigadores sobre Globalizaci&oacute\;n y Territorio (RII).\nEn esta opor
 tunidad se buscar&aacute\; privilegiar las investigaciones que consideren 
 el an&aacute\;lisis de las principales transformaciones globales\, naciona
 les y regionales\, cuyos efectos urbanos y territoriales pueden tener part
 icular incidencia en nuestra regi&oacute\;n.\nEl plazo para la presentaci&
 oacute\;n de res&uacute\;menes es hasta el 31 de marzo de 2018\, a trav&ea
 cute\;s de la p&aacute\;gina web: www.seminariorii.com\n&nbsp\;\n https://
 fadeu-old.urantiacos.cl/agenda/evento/1514-xv-seminario-internacional-de-l
 a-red-iberoamericana-de-investigadores-sobre-globalizacion-y-territorio-ri
 i
DTSTART:20181128T030000Z
LOCATION:Campus Lo Contador (El Comendador 1916\, Providencia\, Providencia
 \, Región Metropolitana\, Chile)
SUMMARY:XV Seminario Internacional de la Red Iberoamericana de Investigador
 es sobre Globalización y Territorio (RII)
URL:https://fadeu-old.urantiacos.cl/agenda/evento/1514-xv-seminario-interna
 cional-de-la-red-iberoamericana-de-investigadores-sobre-globalizacion-y-te
 rritorio-rii
END:VEVENT
BEGIN:VEVENT
UID:20260420T130511UTC-6193gldTw3@https://fadeu-old.urantiacos.cl/
DTSTAMP:20260420T130511Z
DESCRIPTION:Werner Herzog\, Director alem&aacute\;n de filmes como 'Fitzcar
 raldo' y 'Aguirre\, la ira de Dios'\,&nbsp\;es el nuevo invitado al afamad
 o proyecto 'La Ciudad y las Palabras'\, Programa dependiente del Doctorado
  en Arquitectura y Estudios Urbanos de la Pontificia Universidad Cat&oacut
 e\;lica de Chile y auspiciado por La Tercera. Herzog visitar&aacute\; Chil
 e por primera vez y participar&aacute\; del afamado ciclo el pr&oacute\;xi
 mo 27 de noviembre a las 19 h. en el auditorio de la Facultad de Arquitect
 ura\, Dise&ntilde\;o y Estudios Urbanos UC.&nbsp\;\n&nbsp\;\nWerner Herzog
  Stipetic&nbsp\;(Munich\, 1942) es director\, documentalista\, guionista\,
  productor y actor alem&aacute\;n.\n&nbsp\;\n&nbsp\;\nEn 1961\, hizo su pr
 imera pel&iacute\;cula a la edad de 19 a&ntilde\;os con una c&aacute\;mara
  robada. Desde entonces\, ha producido\, escrito y dirigido m&aacute\; de 
 70 largometrajes y documentales\, como Aguirre\, The Wrath of God (1972)\,
  Nosferatu (1979)\,&nbsp\;Fitzcarraldo (1982)\, Lessons of Darkness (1992)
 \, Little Dieter Needs to Fly (1997)\, My Best Fiend (1999)\, Invincible (
 2000)\, Grizzly Man (2005)\, Rescue Dawn (2006)\, Encuentros en el fin del
  mundo (2007)\, Bad Lieutenant: Port of Call New Orleans (2009)\, Cave of 
 Forgotten Dreams (2010) y Queen of the Desert (2015).\n&nbsp\;\n&nbsp\;\nE
 n 2009 fue nombrado como una de las 100 personas m&aacute\;s influyentes e
 n el planeta por la revista Time.\n&nbsp\;\nInscripciones_Cupos agotados\n
 &nbsp\;\nFecha_Martes 27 de Noviembre de 2018\, 19.00 h.\n&nbsp\;\nLugar_A
 uditorio FADEU\, Campus Lo Contador. El Comendador 1916\, Providencia.\n&n
 bsp\;\nOrganiza_\nProyecto 'La Ciudad y las Palabras'Doctorado en Arquitec
 tura y Estudios Urbanos UC.\n&nbsp\;\nAuspician_\nAngloAmericanLa TerceraT
 ironi AsociadosIMELLibrer&iacute\;as UC\n&nbsp\;\n\n&nbsp\; https://fadeu-
 old.urantiacos.cl/agenda/evento/1756-la-ciudad-y-las-palabras-werner-herzo
 g
DTSTART:20181127T220000Z
DTEND:20181127T230000Z
LOCATION:Auditorio FADEU\, Campus Lo Contador PUC (El Comendador 1916\, Pro
 videncia\, Providencia\, Región Metropolitana\, Chile)
SUMMARY:La Ciudad y Las Palabras | Werner Herzog
URL:https://fadeu-old.urantiacos.cl/agenda/evento/1756-la-ciudad-y-las-pala
 bras-werner-herzog
END:VEVENT
BEGIN:VEVENT
UID:20260420T130511UTC-6200rACnEu@https://fadeu-old.urantiacos.cl/
DTSTAMP:20260420T130511Z
DESCRIPTION:El Jefe de Programa del Doctorado en Arquitectura y Estudios Ur
 banos\, Jos&eacute\; Rosas y el Director de Investigaci&oacute\;n y Postgr
 ado de la Facultad\, Felipe Encinas invitan al 1er Coloquio Doctoral a rea
 lizarse el 27 de noviembre.&nbsp\;\n&nbsp\;\nEstudiantes del Doctorado pre
 sentar&aacute\;n a la comunidad los avances de sus investigaciones\, esta 
 instancia\, crucial para socializar el avance de las tesis\, se desarrolla
  acorde a las exigencias del nuevo curriculum del Doctorado y tambi&eacute
 \;n en la importancia de realizar este cruce y di&aacute\;logo de ideas\, 
 es por esto que la presentaci&oacute\;n de los expositores continuar&aacut
 e\; con los comentarios de sus profesores gu&iacute\;as e invitados.&nbsp\
 ;\n&nbsp\;\nMESA 1 / 9:00 hrs.\n'Desaf&iacute\;os para la planificaci&oacu
 te\;n: sustentabilidad\, movilidad y vivienda'\nComenta: Pedro Bannen\n&nb
 sp\;\nPresentan:\n-&nbsp\;Carole&nbsp\;Gurdon /&nbsp\;Profesor gu&iacute\;
 a: Oscar Figueroa\n- Patricia Guti&eacute\;rrez&nbsp\;/&nbsp\;Profesor gu&
 iacute\;a: Kay Bergamini\n- Felipe Valenzuela&nbsp\;/&nbsp\;Profesor gu&ia
 cute\;a: Javier Ruiz-Tagle\n&nbsp\;\n&nbsp\;\nMESA 2 / 15:00 hrs.\n'Histor
 ia y Teor&iacute\;a de la Arquitectura'\nComenta: Jos&eacute\; Quintanilla
 \n&nbsp\;\nPresentan:&nbsp\;&nbsp\;\n- Anna Braghini&nbsp\; /&nbsp\;Profes
 or gu&iacute\;a: Horacio Torrent\n- Maximiano Atria /&nbsp\;Profesor gu&ia
 cute\;a: Alejandro Crispiani\n\n&nbsp\;\n\n https://fadeu-old.urantiacos.c
 l/agenda/evento/1748-coloquio-doctoral-i
DTSTART:20181127T120000Z
DTEND:20181127T140000Z
LOCATION:Salón Sergio Larraín\, Campus Lo Contador ()
SUMMARY:Coloquio doctoral I
URL:https://fadeu-old.urantiacos.cl/agenda/evento/1748-coloquio-doctoral-i
END:VEVENT
END:VCALENDAR
