BEGIN:VCALENDAR
VERSION:2.0
PRODID:-//https://fadeu-old.urantiacos.cl///NONSGML kigkonsult.se iCalcreator 2.10.15//
METHOD:PUBLISH
BEGIN:VEVENT
UID:20260420T130332UTC-9512Ug7USI@https://fadeu-old.urantiacos.cl/
DTSTAMP:20260420T130332Z
DESCRIPTION:\nLa Escuela de Dise&ntilde\;o UC tiene el agrado de invitarte 
 a ser parte de una nueva versi&oacute\;n del&nbsp\;OPEN&nbsp\;DAY&nbsp\;DI
 SE&Ntilde\;O. Instancia en que los talleres de la Escuela abren sus puerta
 s para exhibir el trabajo desarrollado durante el semestre.&nbsp\;\n\n&nbs
 p\;\n\nCu&aacute\;ndo:&nbsp\; 7 de diciembre\n\n\nHora: 13.00 a 19.00 hrs.
 \n\n\nLugar: Campus Lo Contador\, Facultad de Arquitectura\, Dise&ntilde\;
 o y Estudios Urbanos\,&nbsp\;El Comendador 1916.\n&nbsp\;\n\n https://fade
 u-old.urantiacos.cl/agenda/evento/1757-openday-diseno-uc-2-semestre-2018
DTSTART:20181207T160000Z
DTEND:20181207T220000Z
LOCATION:Campus Lo Contador (El Comendador 1916\, Providencia\, Providencia
 \, Región Metropolitana\, Chile)
SUMMARY:Openday Diseño UC 2º Semestre 2018
URL:https://fadeu-old.urantiacos.cl/agenda/evento/1757-openday-diseno-uc-2-
 semestre-2018
END:VEVENT
BEGIN:VEVENT
UID:20260420T130332UTC-9516usdLIu@https://fadeu-old.urantiacos.cl/
DTSTAMP:20260420T130332Z
DESCRIPTION:\n\nElvira P&eacute\;rez\, Jefa del programa de Mag&iacute\;ste
 r en Patrimonio Cultural\, y Umberto Bonomo\, Director del Centro del Patr
 imonio Cultural\, de la Pontificia Universidad Cat&oacute\;lica de Chile\,
  invitan a la Charla Magistral 'Una Arquitectura del Lugar' del arquitecto
  y Premio Nacional de Arquitectura 2016\, Edward Rojas Vega.\nJueves 6 de 
 diciembre de 2018 a las 19:30 hrs.\, en el Sal&oacute\;n Sergio Larra&iacu
 te\;n del campus Lo Contador\, El Comendador 1916\, Providencia.\nLa arqui
 tectura de la madera del Archipi&eacute\;lago de Chilo&eacute\;\, se debe 
 a su geograf&iacute\;a\, su clima\, su paisaje y es la expresi&oacute\;n e
 spiritual\, material y tecnol&oacute\;gica de la memoria hist&oacute\;rica
  y cultural de sus habitantes y navegantes\; que van desarrollando respues
 tas tipol&oacute\;gicas pertinentes\, para la tierra\, el mar y el bordema
 r. Ella es flexible y vers&aacute\;til\, puede acoger formas y programas d
 iversos. Es fr&aacute\;gil pues se deforma con el paso del tiempo\, es per
 ecible cuando la afectan la lluvia\, los hongos\, los xil&oacute\;fagos y 
 los incendios. Como en un collage une lo propio y lo ajeno\, lo nuevo y lo
  viejo. La arquitectura de la madera del Archipi&eacute\;lago de Chilo&eac
 ute\;\, es un patrimonio y un palimpsesto cultural milenario\, en el cual 
 nuestra obra -que se sustenta en este pre existente- es solo un susurro.\n
 Edward Rojas Vega (1951)\, arquitecto\, acad&eacute\;mico y artista visual
 \, nace en el desierto de Atacama\, vive hace 40 a&ntilde\;os en la Isla d
 e Chilo&eacute\;. Cofundador del m&iacute\;tico 'Taller Puertazul'\, autor
  de una f&eacute\;rtil producci&oacute\;n te&oacute\;rica y arquitect&oacu
 te\;nica sustentable de inter&eacute\;s universal. Ha expuesto en Universi
 dades\, Seminarios y Congresos en Latinoam&eacute\;rica y Europa. Su obra 
 est&aacute\; citada en La Enciclopedia Tem&aacute\;tica Aperta / Architett
 ura e Societ&aacute\; e integra la colecci&oacute\;n Somosur de la Editori
 al Escala de Colombia. Coautor de los libros 'El reciclaje insular'\, 'Gu&
 iacute\;a de Arquitectura de Chilo&eacute\;'\, 'Palafitos de Castro\, Chil
 o&eacute\;' y 'Una arquitectura del lugar'. Fundador de la delegaci&oacute
 \;n Chilo&eacute\; del Colegio de Arquitectos de Chile\, Presidente de la 
 Corporaci&oacute\;n Museo de Arte Moderno Chilo&eacute\;\, profesor de mag
 &iacute\;ster de las universidades Austral\, Central y Santiago de Chile y
  profesor de Taller de ISTHMUS en Panam&aacute\;. De sus distinciones dest
 acan: selecci&oacute\;n Premio Internacional Andrea Palladio\, 'Medalla Pr
 ofesor destacado 15 a&ntilde\;os de ISTHMUS'\; Premio Ensamble 2015\; Prem
 io Chilo&eacute\; de Extensi&oacute\;n Cultural\, y Premio Nacional de Arq
 uitectura 2016.\nEntrada liberada\, cupos limitados. Inscripci&oacute\;n a
 l correo&nbsp\;magisterpatrimonio@uc.cl\n\nArquitecturaContacto:&nbsp\;red
 esarq@uc.cl&nbsp\;| +56 2 2354 7747www.arquitectura.uc.cl\n\n\n&nbsp\; htt
 ps://fadeu-old.urantiacos.cl/agenda/evento/1764-charla-magistral-edward-ro
 jas-vega
DTSTART:20181206T223000Z
DTEND:20181206T233000Z
LOCATION:Salón Sergio Larraín\, Campus Lo Contador ()
SUMMARY:Charla Magistral Edward Rojas Vega
URL:https://fadeu-old.urantiacos.cl/agenda/evento/1764-charla-magistral-edw
 ard-rojas-vega
END:VEVENT
BEGIN:VEVENT
UID:20260420T130332UTC-9525UxhvJn@https://fadeu-old.urantiacos.cl/
DTSTAMP:20260420T130332Z
DESCRIPTION:El pr&oacute\;ximo 06 jueves de diciembre a las 19.00 hrs se re
 alizar&aacute\; el lanzamiento del &uacute\;ltimo ARQDOCS que se publicar&
 aacute\; este 2018\, a cargo de la investigadora\, arquitecta e historiado
 ra Beatriz Colomina\, que en ocasi&oacute\;n del lanzamiento realizar&aacu
 te\; una charla magistral en el Auditorio FADEU.\nCon el lanzamiento se ce
 rrar&aacute\; el ciclo de publicaciones 2018 de la serie DOCS\, que tuvo c
 omo invitados a Adrian Forty\, Philipp Ursprung\, Thomas Weaver y Manuel C
 orrada.\n&nbsp\;\n&nbsp\;\nBeatriz Colomina&nbsp\;es directora y fundadora
  del programa interdisciplinario Media and Modernity en Princeton Universi
 ty\, eeuu\, donde adem&aacute\;s es profesora y directora de Estudios de P
 osgrado en la Escuela de Arquitectura. Sus libros incluyen Are We Human? N
 otes on an Archeology of Design (Lars M&uuml\;ller\, 2016)\, The Century o
 f the Bed (Verlag f&uuml\;r Moderne Kunst\, 2015)\, Clip/Stamp/Fold: The R
 adical Architecture of Little Magazines 196x-197x (Actar\, 2010)\, Privacy
  and Publicity: Modern Architecture as Mass Media (mit Press\, 1994) y Sex
 uality and Space (Princeton Architectural Press\, 1992)\, entre muchos otr
 os. Ha dictado conferencias en universidades y museos de arte alrededor de
 l mundo y curado una serie de exposiciones internacionales basadas en inve
 stigaci&oacute\;n de archivos e historia oral. Colomina ha recibido divers
 os premios y becas\, entre otros\, de la som Foundation\, la Fondation Le 
 Corbusier\, la Graham Foundation\, el cca\, The American Academy en Berl&i
 acute\;n y el Getty Center de Los &Aacute\;ngeles.\n&nbsp\;\n&nbsp\;\nFech
 a_Jueves 06 de diciembre de 2018\, 19.00 h.\n&nbsp\;\n&nbsp\;\nLugar_Audit
 orio FADEU. El Comendador 1916\, Providencia\n&nbsp\;\n&nbsp\;\nInvitan_\n
 Ediciones ARQArquitectura UC\nFacultad de Arquitectura\, Dise&ntilde\;o y 
 Estudios Urbanos&nbsp\;UC\n&nbsp\;\n&nbsp\;\n\nNoticiasContacto:&nbsp\;red
 esarq@uc.cl&nbsp\;| +56 2 2354 7747www.arquitectura.uc.cl https://fadeu-ol
 d.urantiacos.cl/agenda/evento/1769-lanzamiento-arq-docs-beatriz-colomina
DTSTART:20181206T220000Z
DTEND:20181206T230000Z
LOCATION:Auditorio FADEU\, Campus Lo Contador PUC (El Comendador 1916\, Pro
 videncia\, Providencia\, Región Metropolitana\, Chile)
SUMMARY:Lanzamiento ARQ Docs: Beatriz Colomina
URL:https://fadeu-old.urantiacos.cl/agenda/evento/1769-lanzamiento-arq-docs
 -beatriz-colomina
END:VEVENT
BEGIN:VEVENT
UID:20260420T130332UTC-9534kZcuV6@https://fadeu-old.urantiacos.cl/
DTSTAMP:20260420T130332Z
DESCRIPTION:Tenemos el agrado de invitarlos a la sesi&oacute\;n n&ordm\;14\
 , &uacute\;ltima de la&nbsp\;Serie : Jornadas de Investigaci&oacute\;n en 
 el Instituto.&nbsp\;\nEn esta ocasi&oacute\;n el acad&eacute\;mico del Ins
 tituto de Estudios Urbanos y Territoriales\,&nbsp\;Jos&eacute\; Rosas\,&nb
 sp\;dictar&aacute\; la charla:&nbsp\;La Representaci&oacute\;n como&nbsp\;
 producci&oacute\;n de nuevo&nbsp\;conocimiento: Santiago 1850-1989.\n&nbsp
 \;\nLa actividad se realizar&aacute\; el d&iacute\;a&nbsp\;martes 4 de dic
 iembre a partir de las 13:00 h.&nbsp\;en el Sal&oacute\;n Sergio Larra&iac
 ute\;n.&nbsp\;El Comendador 1916\, Providencia.\nCupos limitados e inscrip
 ciones&nbsp\;aqu&iacute\;.Se compartir&aacute\; un almuerzo liviano con lo
 s asistentes\, previa inscripci&oacute\;n&nbsp\;hasta el lunes 3 de diciem
 bre.\n&nbsp\;\n https://fadeu-old.urantiacos.cl/agenda/evento/1768-sesion-
 n-14-ultima-de-la-serie-jornadas-de-investigacion-del-instituto-de-estudio
 s-urbanos
DTSTART:20181204T160000Z
DTEND:20181204T170000Z
LOCATION:Salón Sergio Larraín\, Campus Lo Contador ()
SUMMARY:Sesión nº14\, última de la Serie : Jornadas de Investigación del In
 stituto de Estudios Urbanos
URL:https://fadeu-old.urantiacos.cl/agenda/evento/1768-sesion-n-14-ultima-d
 e-la-serie-jornadas-de-investigacion-del-instituto-de-estudios-urbanos
END:VEVENT
BEGIN:VEVENT
UID:20260420T130332UTC-9538aO5Rz6@https://fadeu-old.urantiacos.cl/
DTSTAMP:20260420T130332Z
DESCRIPTION:\n'Inspirados por la Naturaleza 2018'&nbsp\;se ha desarrollado 
 entre los meses de mayo y diciembre\, donde diversos expertos han expuesto
  sus experiencias\, visiones y conocimientos sobre temas que van desde las
  consecuencias del cambio clim&aacute\;tico en Tierra del Fuego\, hasta el
  manejo de &aacute\;reas silvestres protegidas en el pa&iacute\;s\, cultur
 as ancestrales precolombinas o la importancia de proteger nuestra biodiver
 sidad terrestre y marina.\n&nbsp\;\n\nLa cuarta y &uacute\;ltima charla se
  dictar&aacute\; el&nbsp\;03 de diciembre de 2018&nbsp\;y&nbsp\;se titula&
 nbsp\;&ldquo\;Conservar la biodiversidad inspir&aacute\;ndose en la natura
 leza misma&rdquo\;.&nbsp\;Expone&nbsp\;Javier Simonetti\, destacado bi&oac
 ute\;logo de la Universidad de Chile con una amplia trayectoria en la ecol
 og&iacute\;a y la conservaci&oacute\;n de la biodiversidad\, quien dar&aac
 ute\; a conocer por qu&eacute\; es importante conocer la naturaleza y prot
 egerla hoy en d&iacute\;a. Javier tambi&eacute\;n es presidente de la Fund
 aci&oacute\;n Kauyeken y recientemente miembro de la Academia Chilena de C
 iencias.\n&nbsp\;&nbsp\;\n\nFecha 4&ordm\; charla_\nLunes 03 de diciembre 
 de 2018\, 19.00 hrs.\n&nbsp\;\nLugar 3&ordm\; charla_\nAuditorio FADEU\, c
 ampus Lo Contador.&nbsp\;El&nbsp\;Comendador 1916\, Providencia.\n\n&nbsp\
 ;\nOrganiza_\nLadera Sur\n&nbsp\;\nColabora_\nPontificia Universidad Cat&o
 acute\;lica de Chile\nMag&iacute\;ster en Arquitectura del Paisaje UC\n&nb
 sp\;\nPartner_\nEpica Wines\n&nbsp\;\nMedia Partner_\nEnterreno Chile\n&nb
 sp\;\nInscripciones_Inscripciones al mail&nbsp\;info@laderasur.cl\, especi
 ficando que quieres recibir la invitaci&oacute\;n a cada una de las charla
 s o rellenando el formulario en este&nbsp\;link\n&nbsp\;\nLinks de interes
 _\nhttps://laderasur.com/estapasando/no-te-pierdas-la-charla-conservar-la-
 biodiversidad-inspirados-en-la-naturaleza-misma/\n&nbsp\;\n\n&nbsp\;\nEven
 to gratuito abierto a todo p&uacute\;blico\nContacto:&nbsp\;info@laderasur
 .clwww.arquitectura.uc.cl https://fadeu-old.urantiacos.cl/agenda/evento/17
 66-inspirados-por-la-naturaleza-2018-mapa-uc-ladera-sur
DTSTART:20181203T220000Z
DTEND:20181203T230000Z
LOCATION:Auditorio FADEU\, Campus Lo Contador PUC (El Comendador 1916\, Pro
 videncia\, Providencia\, Región Metropolitana\, Chile)
SUMMARY:'Inspirados por la Naturaleza 2018' | MAPA UC + LADERA SUR
URL:https://fadeu-old.urantiacos.cl/agenda/evento/1766-inspirados-por-la-na
 turaleza-2018-mapa-uc-ladera-sur
END:VEVENT
BEGIN:VEVENT
UID:20260420T130332UTC-9546nrxM3H@https://fadeu-old.urantiacos.cl/
DTSTAMP:20260420T130332Z
DESCRIPTION:Charla sobre el intercambio&nbsp\;y doble t&iacute\;tulo&nbsp\;
 en Arquitectura entre la Pontificia Universidad Cat&oacute\;lica de Chile 
 y la Technische Universit&auml\;t Berlin\,&nbsp\;a realizarse el&nbsp\;lun
 es&nbsp\;03&nbsp\;de diciembre en la sala 17 del campus Lo Contador.\nDesd
 e el 2001 la TUB ha estado cooperando a nivel cient&iacute\;fico y acad&ea
 cute\;mico con la PUC en una manifiesta voluntad por ampliar sus respectiv
 os campos de acci&oacute\;n a nuevas realidades. La larga historia de la c
 ooperaci&oacute\;n ha estado marcada por un sostenido esfuerzo de profundi
 zar las relaciones y ha sido apoyada por DAAD desde 2008 hasta hoy. Gracia
 s a esto\, s&oacute\;lo en los &uacute\;ltimos 15 a&ntilde\;os el intercam
 bio ha movilizado casi 70 alumnos de la TUB y 65 estudiantes de la PUC\, d
 e los cuales 60 eran estudiantes de arquitectura. El objetivo ha sido esta
 blecer una estructura acad&eacute\;mica a partir de la cual se puedan real
 izar en conjunto estudios de pre y postgrado\, proyectos de investigaci&oa
 cute\;n e intercambio de doctorado en arquitectura. Desde la implementaci&
 oacute\;n de un convenio espec&iacute\;fico de doble titulaci&oacute\;n pa
 ra las carreras de arquitectura\, la historia de esta cooperaci&oacute\;n 
 ha estado marcada por el deseo de profundizar las relaciones entre ambas E
 scuelas.\nEn esta presentaci&oacute\;n\, Katharina Neubauer y Max Hacke de
  la 'C&aacute\;tedra Construction Design (CODE)' de la TU-Berlin presentar
 &aacute\;n la experiencia del intercambio a lo largo de estos a&ntilde\;os
  y las oportunidades para los estudiantes de la Escuela de Arquitectura UC
  de realizar intercambios y doble t&iacute\;tulo en Berl&iacute\;n.\nFecha
 _Lunes 03 de diciembre\, 14.00 h\nLugar_Sala 17\, frente al Patio de Mader
 a\, Campus Lo Contador. El Comendador 1916\, Providencia\nOrganizan_Pontif
 icia Universidad Cat&oacute\;lica de ChileTechnische Universit&auml\;t Ber
 linEscuela de Arquitectura UCC&aacute\;tedra Construction Design (CODE)\nP
 atrocina_\nInternationale Studien- und Ausbildungspartnerschaften (ISAP) -
  DAAD\n&nbsp\;\n\nNoticiasContacto:&nbsp\;redesarq@uc.cl&nbsp\;| +56 2 235
 4 7747www.arquitectura.uc.cl https://fadeu-old.urantiacos.cl/agenda/evento
 /1765-intercambio-tub-berlin-2019
DTSTART:20181203T170000Z
DTEND:20181203T180000Z
LOCATION:Sala 17 Casona\, Campus Lo Contador (El Comendador 1916\, Providen
 cia\, Región Metropolitana\, Chile)
SUMMARY:'Intercambio TUB Berlin 2019'
URL:https://fadeu-old.urantiacos.cl/agenda/evento/1765-intercambio-tub-berl
 in-2019
END:VEVENT
END:VCALENDAR
