BEGIN:VCALENDAR
VERSION:2.0
PRODID:-//https://fadeu-old.urantiacos.cl///NONSGML kigkonsult.se iCalcreator 2.10.15//
METHOD:PUBLISH
BEGIN:VEVENT
UID:20260421T063842UTC-75296zdzSR@https://fadeu-old.urantiacos.cl/
DTSTAMP:20260421T063842Z
DESCRIPTION:El pr&oacute\;ximo jueves 07 de diciembre a las 18.30 hrs se re
 alizar&aacute\; la presentaci&oacute\;n del photobook ''Paisajes'' del arq
 uitecto y fot&oacute\;grafo Philippe Blanc\, que adem&aacute\;s contar&aac
 ute\; con las presentaciones de Miguel Luis Lagos Presidente Corporaci&oac
 ute\;n Cultural Construye Cultura CChC\, Paulina Courard\, arquitecto y pa
 isajista y Philippe Blanc.\nFecha_Jueves 07 diciembre\, 18.30 hrs.\nLugar_
 Auditorio Fernando Castillo Velasco\, El Comendador 1926\, 4&deg\; piso. P
 rovidenciaInvita_Arquitectura UCCorporaci&oacute\;n Cultural Construye Cul
 tura https://fadeu-old.urantiacos.cl/agenda/evento/1424-lanzamiento-libro-
 paisajes-de-philippe-blanc
DTSTART:20171207T213000Z
DTEND:20171207T223000Z
LOCATION:Auditorio Fernando Castillo Velasco. Edificio ARQ (El Comendador 1
 936\, Providencia\, Región Metropolitana\, Chile)
SUMMARY:Lanzamiento Libro ‘Paisajes’ de Philippe Blanc
URL:https://fadeu-old.urantiacos.cl/agenda/evento/1424-lanzamiento-libro-pa
 isajes-de-philippe-blanc
END:VEVENT
BEGIN:VEVENT
UID:20260421T063842UTC-7533PwWfoF@https://fadeu-old.urantiacos.cl/
DTSTAMP:20260421T063842Z
DESCRIPTION:Con un estilo punzante\, Rodrigo Salcedo (1969-2016) sorprendi&
 oacute\; siempre por su habilidad para cuestionar supuestos y relativizar 
 visiones rom&aacute\;nticas del pasado\, ofreciendo una mirada franca y ri
 gurosa sobre fen&oacute\;menos tan diversos como la segregaci&oacute\;n es
 pacial\, los espacios p&uacute\;blicos\, las pr&aacute\;cticas de consumo\
 , la segmentaci&oacute\;n socio-econ&oacute\;mica\, o las recientes transf
 ormaciones pol&iacute\;ticas del pa&iacute\;s.\nEl presente volumen re&uac
 ute\;ne los 25 trabajos m&aacute\;s importantes de la obra de Rodrigo Salc
 edo &ndash\;incluyendo varios in&eacute\;ditos&ndash\;\, que se encuentran
  divididos en seis cap&iacute\;tulos: teor&iacute\;a del espacio\, identid
 ad de clase\, vivienda social\, barrio cerrado\, mall\, y pensamiento pol&
 iacute\;tico. Completan el libro tres pr&oacute\;logos in&eacute\;ditos de
  Dennis R. Judd\, Michael J. Dear\, y Francisco Sabatini.\nParticipar&aacu
 te\;n del lanzamiento Mahmud Aleuy\, Francisca M&aacute\;rquez\,Francisco 
 Sabatini\, Ricardo Greene. Moderar&aacute\; la conversaci&oacute\;n Tom&aa
 cute\;s Err&aacute\;zuriz.\nFecha_Mi&eacute\;rcoles 06 de diciembre\, 19.0
 0 hrs.\nLugar_Auditorio FADEU\, El Comendador 1916. Providencia https://fa
 deu-old.urantiacos.cl/agenda/evento/1423-lanzamiento-libro-salcedo
DTSTART:20171206T220000Z
DTEND:20171206T230000Z
LOCATION:Auditorio FADEU\, Campus Lo Contador PUC (El Comendador 1916\, Pro
 videncia\, Providencia\, Región Metropolitana\, Chile)
SUMMARY:Lanzamiento Libro ''Salcedo''
URL:https://fadeu-old.urantiacos.cl/agenda/evento/1423-lanzamiento-libro-sa
 lcedo
END:VEVENT
END:VCALENDAR
