BEGIN:VCALENDAR
VERSION:2.0
PRODID:-//https://fadeu-old.urantiacos.cl///NONSGML kigkonsult.se iCalcreator 2.10.15//
METHOD:PUBLISH
BEGIN:VEVENT
UID:20260419T162150UTC-1022GI4Mua@https://fadeu-old.urantiacos.cl/
DTSTAMP:20260419T162150Z
DESCRIPTION:El Proyecto Anillos Soc180033&nbsp\;'Ethnographies of Neolibera
 lism and Aspiration&rdquo\;&nbsp\;&ndash\;&ndash\;en colaboraci&oacute\;n 
 con el Centro de Estudios de Conflicto y Cohesi&oacute\;n Social\, el&nbsp
 \;Mag&iacute\;ster en Antropolog&iacute\;as Latinoamericanas de la Univers
 idad Alberto Hurtado&nbsp\;y el Instituto de Estudios Urbanos y Territoria
 les de la Pontificia Universidad Cat&oacute\;lica&ndash\;&ndash\;\, les in
 vita a participar de nuestra primera Conferencia Internacional&nbsp\;'Neol
 iberalismo y Ciudadan&iacute\;a: Aspiraciones e Insurgencias en la Vida Co
 tidiana&rdquo\;. El evento se realizar&aacute\; el 12 de diciembre en el A
 uditorio del Campus lo Contador de la Pontificia Universidad Cat&oacute\;l
 ica a partir de las 9:30 am\, y contar&aacute\; con la participaci&oacute\
 ;n de&nbsp\;James Holston&nbsp\;(Departamento de Antropolog&iacute\;a\, Un
 iversidad de California\, Berkeley)\,&nbsp\;Helene Risor&nbsp\;(Departamen
 to de Antropolog&iacute\;a\, Pontificia Universidad Cat&oacute\;lica de Ch
 ile)\,&nbsp\;Edward Murphy&nbsp\;(Departamento de Historia y Estudios Urba
 nos Globales\, Universidad Estatal de Michigan)\n&iquest\;Por qu&eacute\; 
 discutir sobre neoliberalismo y ciudadan&iacute\;a? El reciente estallido 
 social en Chile\, del que hemos sido testigos y/o part&iacute\;cipes en la
 s &uacute\;ltimas semanas\, parece haber redefinido la relaci&oacute\;n en
 tre ciudadanos y Estado en formas que todav&iacute\;a no podemos conmensur
 ar. Para poder entrar a este debate\, resulta necesario comenzar pregunt&a
 acute\;ndonos primero por c&oacute\;mo se ha entendido el concepto de ciud
 adan&iacute\;a al interior de las ciencias sociales.\nLa antropolog&iacute
 \;a\, por ejemplo\, ha definido ciudadan&iacute\;a como un sistema regulat
 orio a trav&eacute\;s del cual las sociedades gestionan sus diferencias in
 ternas\, de manera de consolidar sus proyectos identitarios (Kipnis 2004\;
  Postero 2007\; Holston 2008). La ciudadan&iacute\;a refiere\, as&iacute\;
 \, a la relaci&oacute\;n entre individuos o grupos y el Estado\, una relac
 i&oacute\;n que se encuentra enmarcada por la forma en que diversas socied
 ades responden la pregunta por la pertenencia a la comunidad pol&iacute\;t
 ica (Postero 2007). En las sociedades neoliberales\, volverse ciudadano im
 plica no solo la obtenci&oacute\;n de un estatus legal\, sino tambi&eacute
 \;n el participar en un proyecto moral basado en ideas de autosuficiencia\
 , autonom&iacute\;a y libertad (cf. Rose 1999\; Ong 2003) &iquest\;C&oacut
 e\;mo dar cuenta etnogr&aacute\;ficamente de la emergencia de ciudadanos-s
 ujetos dotados con capacidades de auto-gobierno y auto-responsabilidad? &i
 quest\;Qu&eacute\; tipos de pol&iacute\;ticas resultan de tales procesos d
 e formaci&oacute\;n de sujetos? &iquest\;Qu&eacute\; tipos de resistencias
  o agencias est&aacute\;n emergiendo en pa&iacute\;ses que est&aacute\;n e
 xperimentando profundas transformaciones pol&iacute\;ticas (como Chile)? &
 iquest\;C&oacute\;mo analizar la aparici&oacute\;n de una pol&iacute\;tica
  'insurgente&rdquo\; (cf. Holston 2008) capaz de cuestionar las premisas\,
  normas e ideolog&iacute\;as del proyecto neoliberal de ciudadan&iacute\;a
 ? &iquest\;C&oacute\;mo podemos encarar estas preguntas en Am&eacute\;rica
  Latina\, un continente que ha estado hist&oacute\;ricamente marcado por e
 normes desigualdades y gobiernos autoritarios que han usado el discurso ne
 oliberal como una forma de negar su responsabilidad sobre los ciudadanos?
 \nLa presente conferencia internacional pretende abordar estas y otras pre
 guntas reuniendo a un grupo de investigadores que han enfocado su trabajo 
 en analizar los cambios y continuidades que el proyecto neoliberal ha tra&
 iacute\;do para la vida cotidiana de los ciudadanos latinoamericanos en la
 s &uacute\;ltimas d&eacute\;cadas.\nInvitamos a inscribirse para participa
 r&nbsp\;aqu&iacute\;.\n https://fadeu-old.urantiacos.cl/agenda/evento/2059
 -primera-conferencia-internacional-neoliberalismo-y-ciudadania-aspiracione
 s-e-insurgencias-en-la-vida-cotidiana
DTSTART:20191212T123000Z
DTEND:20191212T193000Z
LOCATION:Auditorio FADEU\, Campus Lo Contador PUC (El Comendador 1916\, Pro
 videncia\, Providencia\, Región Metropolitana\, Chile)
SUMMARY:Primera Conferencia Internacional 'Neoliberalismo y Ciudadanía: Asp
 iraciones e Insurgencias en la Vida Cotidiana”
URL:https://fadeu-old.urantiacos.cl/agenda/evento/2059-primera-conferencia-
 internacional-neoliberalismo-y-ciudadania-aspiraciones-e-insurgencias-en-l
 a-vida-cotidiana
END:VEVENT
END:VCALENDAR
