BEGIN:VCALENDAR
VERSION:2.0
PRODID:-//https://fadeu-old.urantiacos.cl///NONSGML kigkonsult.se iCalcreator 2.10.15//
METHOD:PUBLISH
BEGIN:VEVENT
UID:20260420T110814UTC-2818tfvu1D@https://fadeu-old.urantiacos.cl/
DTSTAMP:20260420T110814Z
DESCRIPTION: https://fadeu-old.urantiacos.cl/agenda/evento/1773-presentacio
 n-proyecto-interdisciplinar-impresora-3d
DTSTART:20181212T120000Z
DTEND:20181212T130000Z
LOCATION:Auditorio Fernando Castillo Velasco. Edificio ARQ (El Comendador 1
 936\, Providencia\, Región Metropolitana\, Chile)
SUMMARY:Presentación Proyecto Interdisciplinar IMPRESORA-3D
URL:https://fadeu-old.urantiacos.cl/agenda/evento/1773-presentacion-proyect
 o-interdisciplinar-impresora-3d
END:VEVENT
BEGIN:VEVENT
UID:20260420T110814UTC-2821LZkt3f@https://fadeu-old.urantiacos.cl/
DTSTAMP:20260420T110814Z
DESCRIPTION:\n\n\n\n\n\n\n\nLos d&iacute\;as 11\, 12 y 13 de diciembre en e
 l campus Lo Contador de la Universidad Cat&oacute\;lica y en la Facultad d
 e Arquitectura de la Universidad de Chile se realizar&aacute\; la tercera 
 versi&oacute\;n del Congreso Intersecciones que re&uacute\;ne acad&eacute\
 ;micos y estudiantes que investigan la ciudad y el territorio desde divers
 as disciplinas.\n36 mesas tem&aacute\;ticas con 167 ponencias ser&aacute\;
 n parte de esta tercera versi&oacute\;n de INTERSECCIONES\, Congreso Inter
 disciplinario de Investigaci&oacute\;n en Arquitectura\, Dise&ntilde\;o\, 
 Ciudad y Territorio\, una iniciativa organizada por las facultades de arqu
 itectura de la Pontificia Universidad Cat&oacute\;lica de Chile\, de la Un
 iversidad de Chile y de la Universidad del Bio B&iacute\;o en conjunto con
  el Centro de Desarrollo Urbano Sustentable (CEDEUS).\nParticipan la Unive
 rsidad de Concepci&oacute\;n\, Pontificia Universidad Cat&oacute\;lica de 
 Valpara&iacute\;so\, Universidad Diego Portales y Universidad Cat&oacute\;
 lica del Norte. Tambi&eacute\;n y como invitados internacionales estar&aac
 ute\; presente la Escuela de Arquitectura y Dise&ntilde\;o del Tecnol&oacu
 te\;gico de Monterrey\, M&eacute\;xico y de la Facultad de Arquitectura y 
 Dise&ntilde\;o de la Universidad de Los Andes de Colombia.\nINTERSECCIONES
  se articula en funci&oacute\;n de 9 ejes tem&aacute\;ticos\, a saber\, (1
 ) Patrimonio y cultura\, (2) Sustentabilidad\, resilencia y cambio clim&aa
 cute\;tico\, (3) Vulnerabilidad\, calidad de vida y derecho a la ciudad\, 
 (4) Paisaje\, movilidad y territorio\, (5) Planificaci&oacute\;n y dise&nt
 ilde\;o urbano\, (6) Tecnolog&iacute\;as\, materiales y procesos\, (7) His
 toriograf&iacute\;a\, (8) M&eacute\;todos\, proyecto y did&aacute\;ctica\,
  y (9) Percepciones\, emociones e imaginarios.\nEn el marco de este Congre
 so habr&aacute\; una charla magistral el d&iacute\;a 11 de diciembre del a
 rquitecto y profesor de la Facultad de Arquitectura y Urbanismo de la Univ
 ersidad de la Plata\, Fernando Gandolfi\, quien se especializa en investig
 aci&oacute\;n hist&oacute\;rico cr&iacute\;tica y en la realizaci&oacute\;
 n de planes maestros y proyectos de conservaci&oacute\;n\, restauraci&oacu
 te\;n e intervenci&oacute\;n en obras de valor hist&oacute\;rico\, como as
 &iacute\; tambi&eacute\;n en el seguimiento de obras en edificios patrimon
 iales. Y el d&iacute\;a 13\, cerrar&aacute\; con una conferencia este encu
 entro In&ecirc\;s da Silva Magalh&atilde\;es\, quien fue Ministra de las C
 iudades de Brasil\, el a&ntilde\;o 2016en el per&iacute\;odo de Dilma Rous
 seff\nLas actividades de INTERSECCIONES se llevar&aacute\;n a cabo los d&i
 acute\;as 11 y 13 en el Campus Lo Contador de la UC y el 12 en la Facultad
  de Arquitectura y Urbanismo de la Universidad de Chile.\nINSCRIPCI&Oacute
 \;N CONGRESO\nPROGRAMA\nREVISA MAS INFORMACI&Oacute\;N&nbsp\;AQUI\n\nINFOR
 MACI&Oacute\;N PERIOD&Iacute\;STICA\nJohanna OrtizEncargada Comunicaciones
  I CEDEUS\n\n\n\n\n\n\n\n&nbsp\; https://fadeu-old.urantiacos.cl/agenda/ev
 ento/1767-intersecciones-iii-congreso-interdisciplinario-investigacion-en-
 arquitectura-diseno-ciudad-y-territorio
DTSTART:20181211T030000Z
DTEND:20181213T112300Z
LOCATION:Campus Lo Contador (El Comendador 1916\, Providencia\, Providencia
 \, Región Metropolitana\, Chile)
SUMMARY:Intersecciones III Congreso Interdisciplinario Investigación en Arq
 uitectura\, Diseño\, Ciudad y Territorio
URL:https://fadeu-old.urantiacos.cl/agenda/evento/1767-intersecciones-iii-c
 ongreso-interdisciplinario-investigacion-en-arquitectura-diseno-ciudad-y-t
 erritorio
END:VEVENT
BEGIN:VEVENT
UID:20260420T110814UTC-2831ORShWr@https://fadeu-old.urantiacos.cl/
DTSTAMP:20260420T110814Z
DESCRIPTION:Antoine Wilmering posee una amplia trayectoria en la conservaci
 &oacute\;n del patrimonio. Entre 2000 y 2004 fue profesor en el Instituto 
 de Estudios de Conservaci&oacute\;n de Reliquias Culturales de la Universi
 dad Nacional de Artes de Tainan en Taiw&aacute\;n. Desde 1987 hasta 2000 s
 e desempe&ntilde\;&oacute\; como conservador en el Museo Metropolitano de 
 Arte.\n&nbsp\;\nDesde 2004 en la Fundaci&oacute\;n Getty promueve y monito
 rea las subvenciones otorgadas por la instituci&oacute\;n para la conserva
 ci&oacute\;n del patrimonio cultural a nivel mundial. En la actualidad ges
 tiona el programa 'Keeping It Modern' que brinda apoyo para el desarrollo 
 de planes de conservaci&oacute\;n y manejo de edificios patrimoniales del 
 siglo XX.\n&nbsp\;\n\nKeeping it Modern / Antoine Wilmering\nLunes 10 dici
 embre 18:30 horas\nSal&oacute\;n Sergio Larra&iacute\;n Garc&iacute\;a Mor
 eno\n\n&nbsp\;\n https://fadeu-old.urantiacos.cl/agenda/evento/1772-presen
 tacion-de-antoine-wilmering
DTSTART:20181210T213000Z
DTEND:20181210T223000Z
LOCATION:Salón Sergio Larraín\, Campus Lo Contador ()
SUMMARY:Presentación de Antoine Wilmering
URL:https://fadeu-old.urantiacos.cl/agenda/evento/1772-presentacion-de-anto
 ine-wilmering
END:VEVENT
END:VCALENDAR
