BEGIN:VCALENDAR
VERSION:2.0
PRODID:-//https://fadeu-old.urantiacos.cl///NONSGML kigkonsult.se iCalcreator 2.10.15//
METHOD:PUBLISH
BEGIN:VEVENT
UID:20260421T063929UTC-2027zxpIJZ@https://fadeu-old.urantiacos.cl/
DTSTAMP:20260421T063929Z
DESCRIPTION:El pr&oacute\;ximo jueves 14 de diciembre se realizar&aacute\; 
 el lanzamiento de la &uacute\;ltima ARQ de 2017 titulada ''Valor''. Para e
 l lanzamiento del n&uacute\;mero 97 de la revista\, Comentar&aacute\;n:\nC
 amila Opazo\, curadora\, directora y editora revista Tonic.\nCrist&oacute\
 ;bal Amunategui\, arquitecto\, acad&eacute\;mico UCL EE.UU y socio fundado
 r oficina Amunategui-Vald&eacute\;s.\nNicol&aacute\;s Grau\, economista y 
 acad&eacute\;mico de la Facultad de Econm&iacute\;a y Negocios de la Unive
 rsidad de Chile.\nAdem&aacute\;s de la conversaci&oacute\;n\, se realizar&
 aacute\; un c&oacute\;ctel pre y post lanzamiento para todos los asistente
 s al lanzamiento.\nFecha_14 de diciembre de 2017\, 18.30 hrs.\nLugar_Hall 
 Acesso ''Espacio Com&uacute\;n'' hall acceso EARQ UC. El Comendador 1936. 
 Providencia.\nInvita_Arquitectura UCEdiciones ARQ\n&nbsp\;\n https://fadeu
 -old.urantiacos.cl/agenda/evento/1428-lanzamiento-arq-97
DTSTART:20171214T213000Z
DTEND:20171214T223000Z
LOCATION:Hall Acceso Edificio escuela de Arquitectura UC (El Comendador 193
 6\, Providencia\, Región Metropolitana\, Chile)
SUMMARY: LANZAMIENTO ARQ 97
URL:https://fadeu-old.urantiacos.cl/agenda/evento/1428-lanzamiento-arq-97
END:VEVENT
BEGIN:VEVENT
UID:20260421T063929UTC-2032IfzRVa@https://fadeu-old.urantiacos.cl/
DTSTAMP:20260421T063929Z
DESCRIPTION:15 | TUMBAS\nEn la edici&oacute\;n n&uacute\;mero 15 de la sere
  de Discusi&oacute\;n y Cr&iacute\;tica de Edificios\, Felipe de Ferrari y
  Pablo Brugnoli nos presentan dos casos excepcionales dentro del Cementeri
 o General\, el Mausoleo Italiano\, dise&ntilde\;ado por Francisco Brugnoli
 \, y el Memorial PP29\, proyecto de intervenci&oacute\;n liderado por Igna
 cio Garc&iacute\;a Partarrieu. Completan el panel Alejandra Celed&oacute\;
 n\, Pedro Correa\, Francisco D&iacute\;az\, Cristi&aacute\;n Izquierdo\, N
 icol&aacute\;s Stutzin y Max Nu&ntilde\;ez.\nFecha_Mi&eacute\;rcoles 13 de
  diciembre de 2017. 18:30 hrs\nLugar_Auditorio Fernando Castillo Velasco\,
  Campus Lo Contador. El Comendador 1936.Providencia\nInvitan_MARQ UCArquit
 ectura UC\n&nbsp\;\n https://fadeu-old.urantiacos.cl/agenda/evento/1425-se
 rie-discusion-y-critica-de-edificios
DTSTART:20171213T213000Z
DTEND:20171213T223000Z
LOCATION:Auditorio Fernando Castillo Velasco. Edificio ARQ (El Comendador 1
 936\, Providencia\, Región Metropolitana\, Chile)
SUMMARY:Serie Discusión y Crítica de Edificios
URL:https://fadeu-old.urantiacos.cl/agenda/evento/1425-serie-discusion-y-cr
 itica-de-edificios
END:VEVENT
BEGIN:VEVENT
UID:20260421T063929UTC-20365LbdO2@https://fadeu-old.urantiacos.cl/
DTSTAMP:20260421T063929Z
DESCRIPTION:Seminario: &ldquo\;Recuperaci&oacute\;n participativa de &aacut
 e\;reas verdes: Aprendizajes y desaf&iacute\;os&rdquo\; que se realizar&aa
 cute\; el mi&eacute\;rcoles 13 de diciembre entre 8:30 y 11.30 horas en el
  Campus Lo Contador UC (El Comendador 1916\, Providencia. Auditorio Fadeu)
 . https://fadeu-old.urantiacos.cl/agenda/evento/1427-seminario-recuperacio
 n-participativa-de-areas-verdes-aprendizajes-y-desafios
DTSTART:20171213T113000Z
DTEND:20171213T143000Z
LOCATION:Auditorio FADEU\, Campus Lo Contador PUC (El Comendador 1916\, Pro
 videncia\, Providencia\, Región Metropolitana\, Chile)
SUMMARY:Seminario: “Recuperación participativa de áreas verdes: Aprendizaje
 s y desafíos'
URL:https://fadeu-old.urantiacos.cl/agenda/evento/1427-seminario-recuperaci
 on-participativa-de-areas-verdes-aprendizajes-y-desafios
END:VEVENT
END:VCALENDAR
