BEGIN:VCALENDAR
VERSION:2.0
PRODID:-//https://fadeu-old.urantiacos.cl///NONSGML kigkonsult.se iCalcreator 2.10.15//
METHOD:PUBLISH
BEGIN:VEVENT
UID:20260419T162151UTC-6711k0imHJ@https://fadeu-old.urantiacos.cl/
DTSTAMP:20260419T162151Z
DESCRIPTION:Di&aacute\;logos de Luz vol.1/ Comunicar con Luz\n_Jueves 19 de
  diciembre\n_Sal&oacute\;n Sergio Larra&iacute\;n\, Campus Lo Contador\n_1
 6.00 a 18.00 h&nbsp\;\n_&nbsp\;mailto:cursos@ciluz.cl https://fadeu-old.ur
 antiacos.cl/agenda/evento/2071-dialogos-de-luz-vol-1-comunicar-con-luz
DTSTART:20191219T190000Z
DTEND:20191219T210000Z
LOCATION:Salón Sergio Larraín\, Campus Lo Contador ()
SUMMARY:Diálogos de Luz vol.1/ Comunicar con Luz
URL:https://fadeu-old.urantiacos.cl/agenda/evento/2071-dialogos-de-luz-vol-
 1-comunicar-con-luz
END:VEVENT
BEGIN:VEVENT
UID:20260419T162151UTC-6714vfeuPR@https://fadeu-old.urantiacos.cl/
DTSTAMP:20260419T162151Z
DESCRIPTION:El pr&oacute\;ximo mi&eacute\;rcoles 18 de diciembre a las 18:0
 0 horas en el Auditorio FADEU&nbsp\;realizaremos el &uacute\;ltimo lanzami
 ento de Ediciones ARQ y esta vez ser&aacute\; doble.&nbsp\;Ecolog&iacute\;
 a\, la tercera revista de 2019 abrir&aacute\; los fuegos para continuar co
 n el tambi&eacute\;n &uacute\;ltimo Docs de este a&ntilde\;o\, que tendr&a
 acute\; a su autor&nbsp\;Mark Wigley\, como invitado especial.En esta ocas
 i&oacute\;n les pedimos que se inscriban en el siguiente&nbsp\;formulario\
 , ya que por protocolos de seguridad que respetamos (aunque no necesariame
 nte compartimos)\, s&oacute\;lo ingresar&aacute\;n al campus&nbsp\;quienes
  se hayan inscrito previamente.Esperamos verlos una &uacute\;ltima vez est
 e 2019 y en los pr&oacute\;ximos d&iacute\;as confirmaremos a los comentar
 istas que se sumar&aacute\;n a Mark para este lanzamiento especial.\n\n&nb
 sp\;\n\n&nbsp\; https://fadeu-old.urantiacos.cl/agenda/evento/2065-lanzami
 entos-ediciones-arq
DTSTART:20191218T210000Z
DTEND:20191218T220000Z
LOCATION:Auditorio FADEU\, Campus Lo Contador PUC (El Comendador 1916\, Pro
 videncia\, Providencia\, Región Metropolitana\, Chile)
SUMMARY:Lanzamientos Ediciones ARQ
URL:https://fadeu-old.urantiacos.cl/agenda/evento/2065-lanzamientos-edicion
 es-arq
END:VEVENT
BEGIN:VEVENT
UID:20260419T162151UTC-6719TN5WvD@https://fadeu-old.urantiacos.cl/
DTSTAMP:20260419T162151Z
DESCRIPTION:La Escuela de Arquitectura UC invita a la charla 'Housing as In
 tervention'\, con la arquitecta Karen Kubey\,&nbsp\;urbanista\, especializ
 ada en vivienda y salud.\n&nbsp\;\n\nInvitados_\nKaren Kubey | Universidad
  de Oregon\n&nbsp\;\nKubey cuenta con t&iacute\;tulos de arquitectura&nbsp
 \;de la Universidad de California y Columbia (GSAPP)\; empez&oacute\; su c
 arrera comodise&ntilde\;adora de casas de bajo costo. Miembro de Design fo
 r Spatial Justice de la&nbsp\;Universidad de Oregon\, es editora de Housin
 g as Intervention: Architecture towards&nbsp\;Social Equity (Architectural
  Design\, 2018). Fue la primera directora ejecutiva del Institutefor Publi
 c Architecture. Kubey es la cofundadora de Architecture for Humanity en Nu
 eva&nbsp\;York (ahora Open Architecture / New York) y cofundadora de New H
 ousing New York&nbsp\;Desing Competition. Ha recibido apoyo del New York S
 tate Council on the Arts y de laorganizaci&oacute\;n MacDowell Collony.\n
 \n&nbsp\;\n\nFecha_Mi&eacute\;rcoles 18 de diciembre de 2019\, 13:30 h\nLu
 gar_Sal&oacute\;n SLGMEl Comendador 1916\, Providencia\n\n\nNoticiasContac
 to:&nbsp\;redesarq@uc.cl&nbsp\;| +56 2 2354 7747www.arquitectura.uc.cl htt
 ps://fadeu-old.urantiacos.cl/agenda/evento/2069-charla-karen-kubey-housing
 -as-intervention
DTSTART:20191218T163000Z
DTEND:20191218T173000Z
LOCATION:Salón Sergio Larraín\, Campus Lo Contador ()
SUMMARY:Charla Karen Kubey 'Housing as Intervention'
URL:https://fadeu-old.urantiacos.cl/agenda/evento/2069-charla-karen-kubey-h
 ousing-as-intervention
END:VEVENT
BEGIN:VEVENT
UID:20260419T162151UTC-6724mguoW0@https://fadeu-old.urantiacos.cl/
DTSTAMP:20260419T162151Z
DESCRIPTION:Seminario Internacional &ldquo\;Infraestructuras Globales y Gue
 rra Fr&iacute\;a&rdquo\;\nEn el marco del proyecto Fondecyt Regular No 119
 1284 (2019 -2021): &ldquo\;Chile en la creaci&oacute\;n y transformaci&oac
 ute\;n de las redes globales de observatorios astron&oacute\;micos sovi&ea
 cute\;ticos Pulkovo y estaciones de rastreo satelital estadounidenses NASA
  desde la arquitectura\, el dise&ntilde\;o y el urbanismo (1957-1989)&rdqu
 o\;.\nEXPOSITORES:\nDavid Edgerton | King&rsquo\;s College\nPresentaci&oac
 ute\;n_\n&ldquo\;Knowledge Infrastructures in the Cold War&rdquo\; | 'Infr
 aestructuras del conocimiento en la Guerra Fr&iacute\;a'\nDavid Edgerton e
 s historiador de la ciencia y la tecnolog&iacute\;a del siglo XX en Gran B
 reta&ntilde\;a. Ense&ntilde\;a en el Departamento de Historia del King&rsq
 uo\;s College de Londres\, donde es Hans Rausing Professor de Historia de 
 la Ciencia y Tecnolog&iacute\;a\, y Profesor de Historia Brit&aacute\;nica
  Moderna. Fue el director fundador del Centro de Historia de la Ciencia\, 
 Tecnolog&iacute\;a y Medicina en el King&rsquo\;s College de Londres. Diri
 ge el departamento de Historia Brit&aacute\;nica Contempor&aacute\;nea en 
 el King&rsquo\;s College\, y es codirector del Centro Sir Michael Howard p
 ara la Historia de la Guerra. David Edgerton estudi&oacute\; en el St. Joh
 n&rsquo\;s College de Oxford y en el Imperial College de Londres\, y ha en
 se&ntilde\;ado en las Universidades de Manchester\, el Imperial College y 
 ahora en el King&rsquo\;s College de Londres. Entre sus publicaciones dest
 aca Warfare State (Cambridge University Press\, 2005)\, Britain&rsquo\;s W
 ar Machine (Penguin\, 2011) y The Shock of the Old (Profile\, 2007\, 2019)
 \, este &uacute\;ltimo traducido al castellano como Innovaci&oacute\;n y T
 radici&oacute\;n (Critica\, 2008). Su libro m&aacute\;s reciente es The Ri
 se and fall of the British Nation (Penguin\, 2018).\nMark Wigley | Columbi
 a University\nPresentaci&oacute\;n_\nT&iacute\;tulo por confirmar\nMark Wi
 gley es profesor en GSAPP\, Universidad de Columbia (Nueva York)\, donde f
 ue decano entre 2004 y 2014. Ha escrito extensamente sobre la teor&iacute\
 ;a y la pr&aacute\;ctica de la arquitectura. Sus libros incluyen: Passing 
 Through Architecture: The 10 Years of Gordon Matta-Clark (2019)\; Cutting 
 Matta-Clark: The Anarchitecture Investigation (2018)\; Buckminster Fuller 
 Inc: Architecture in the Age of Radio (2015)\; Casa da M&uacute\;sica / Po
 rto (2008)\; Constant&rsquo\;s New Babylon: The Hyper-Architecture of Desi
 re (1998)\; White Walls\, Designer Dresses: The Fashioning of Modern Archi
 tecture (1995)\; y The Architecture of Deconstruction: Derrida&rsquo\;s Ha
 unt (1993). Wigley co-escribi&oacute\; Are We Human? Notes on an Archaeolo
 gy of Design (2016) con Beatriz Colomina cuando fueron co-curadores de la 
 3a Bienal de Dise&ntilde\;o de Estambul. Tambi&eacute\;n fue curador de la
  exposici&oacute\;n Deconstructivist Architecture en el Museo de Arte Mode
 rno en Nueva York (1988)\, y otros en The Drawing Center\, Nueva York\; Ce
 ntro Canadiense de Arquitectura\, Montreal\; Witte de With Museum y Het Ni
 euwe Instituut\, Rotterdam\; y The Power Station of Art\, Shanghai. Mark W
 igley recibi&oacute\; su grado de Arquitecto (1979) y su Ph.D. (1987) de l
 a Universidad de Auckland\, Nueva Zelanda.\nPedro Ignacio Alonso y Hugo Pa
 lmarola | Pontificia Universidad Cat&oacute\;lica de Chile\nPresentaci&oac
 ute\;n_\n'Warehouse archaeologies: Cold War infrastructures from the backy
 ard&rdquo\; | 'Arqueolog&iacute\;as de bodega: infraestructuras de la Guer
 ra Fr&iacute\;a desde el patio trasero'\nPedro Ignacio Alonso es arquitect
 o y mag&iacute\;ster en arquitectura de la Pontificia Universidad Cat&oacu
 te\;lica de Chile\, (PUC) y doctorado en arquitectura por la Architectural
  Association de Londres. Es profesor asociado en la Escuela de Arquitectur
 a PUC\, donde actualmente es Subdirector de Investigaci&oacute\;n y Desarr
 ollo.\nHugo Palmarola es dise&ntilde\;ador de la Pontificia Universidad Ca
 t&oacute\;lica de Chile (2004)\, Mag&iacute\;ster en Dise&ntilde\;o indust
 rial (2010) y Doctor en Estudios Latinoamericanos de la Universidad Nacion
 al Aut&oacute\;noma de M&eacute\;xico (2018). Obtuvo el Student Essay Priz
 e otorgado por the Design History Society (2018). Es actualmente profesor 
 en la Escuela de Dise&ntilde\;o de la Pontificia Universidad Cat&oacute\;l
 ica de Chile.\nPedro Ignacio Alonso y Hugo Palmarola son autores del libro
  Panel (Architectural Association\, 2014)\, y editores de los libros Monol
 ith Controversies (Hatje Cantz\, 2014)\, y Flying Panels: How Concrete Pan
 els Changed the World (DOM / Ediciones UC\, 2019).\nFecha_\nMartes 17 de d
 iciembre 2019\, 15:00 - 17:00 h.\nLugar_\nSal&oacute\;n SLGM\, Campus Lo C
 ontador\n\nNoticiasContacto:&nbsp\;redesarq@uc.cl&nbsp\;| +56 2 2354 7747w
 ww.arquitectura.uc.cl https://fadeu-old.urantiacos.cl/agenda/evento/2067-s
 eminario-internacional-infraestructuras-globales-y-guerra-fria
DTSTART:20191217T180000Z
DTEND:20191217T200000Z
LOCATION:Salón Sergio Larraín\, Campus Lo Contador ()
SUMMARY:Seminario Internacional “Infraestructuras Globales y Guerra Fría”
URL:https://fadeu-old.urantiacos.cl/agenda/evento/2067-seminario-internacio
 nal-infraestructuras-globales-y-guerra-fria
END:VEVENT
BEGIN:VEVENT
UID:20260419T162151UTC-6739VguZvR@https://fadeu-old.urantiacos.cl/
DTSTAMP:20260419T162151Z
DESCRIPTION:\nEn esta ocasi&oacute\;n la acad&eacute\;mica&nbsp\;Mar&iacute
 \;a Luisa M&eacute\;ndez\,&nbsp\;dictar&aacute\; la Charla:&nbsp\;Elecci&o
 acute\;n residencial y socializaci&oacute\;n pol&iacute\;tica en la clase 
 media alta en Santiago de Chile.\nCupos limitados e inscripciones&nbsp\;aq
 u&iacute\;.Se compartir&aacute\; un almuerzo liviano con los asistentes\, 
 previa inscripci&oacute\;n&nbsp\;hasta el lunes 16 de diciembre.\n\nOrgani
 za: Instituto de Estudios Urbanos y Territoriales UC\n\n https://fadeu-old
 .urantiacos.cl/agenda/evento/2063-charla-eleccion-residencial-y-socializac
 ion-politica-en-la-clase-media-alta-en-santiago-de-chile
DTSTART:20191217T160000Z
DTEND:20191217T170000Z
LOCATION:Salón Sergio Larraín\, Campus Lo Contador ()
SUMMARY:Charla: Elección residencial y socialización política en la clase m
 edia alta en Santiago de Chile
URL:https://fadeu-old.urantiacos.cl/agenda/evento/2063-charla-eleccion-resi
 dencial-y-socializacion-politica-en-la-clase-media-alta-en-santiago-de-chi
 le
END:VEVENT
BEGIN:VEVENT
UID:20260419T162151UTC-67423exUlv@https://fadeu-old.urantiacos.cl/
DTSTAMP:20260419T162151Z
DESCRIPTION:Presentan: Toolkit para la gesti&oacute\;n y conservaci&oacute\
 ;n de humedales: Una propuesta de fortalecimiento a su actual instituciona
 lidad.Kay Bergamini (Estudios Urbanos y Territoriales PUC)\, Carolina Mart
 &iacute\;nez (Instituto De Geograf&iacute\;a Universidad Cat&oacute\;lica)
 \, Katherine Mollenhauer (Dise&ntilde\;o UC)\, Cristian P&eacute\;rez (Cen
 tro de Gesti&oacute\;n Ambiental y Biodiversidad Universidad de Chile) y J
 os&eacute\; Hern&aacute\;ndez (Facultad de Derecho y Gobierno&nbsp\;Univer
 sidad San Sebasti&aacute\;n)\n\nComentan:Ximena &Oacute\;rdenes (Senadora)
 \, Felipe Riesco (Subsecretario&nbsp\;Ministerio del Medio Ambiente) y Car
 olina Rojas (Estudios Urbanos y Territoriales PUC).Organiza:&nbsp\;Centro 
 de Pol&iacute\;ticas P&uacute\;blicas UC\n&nbsp\;\n\n https://fadeu-old.ur
 antiacos.cl/agenda/evento/2061-seminario-humedales-en-chile-propuestas-par
 a-fortalecer-su-institucionalidad
DTSTART:20191216T123000Z
DTEND:20191216T140000Z
LOCATION:Sala Colorada\, Centro de Extensión UC (Alameda 390)
SUMMARY:Seminario Humedales en Chile: Propuestas para fortalecer su institu
 cionalidad
URL:https://fadeu-old.urantiacos.cl/agenda/evento/2061-seminario-humedales-
 en-chile-propuestas-para-fortalecer-su-institucionalidad
END:VEVENT
END:VCALENDAR
